BEGIN:VCALENDAR
VERSION:2.0
PRODID:-//The Independent - ECPv6.15.11//NONSGML v1.0//EN
CALSCALE:GREGORIAN
METHOD:PUBLISH
X-WR-CALNAME:The Independent
X-ORIGINAL-URL:https://kcindependent.com
X-WR-CALDESC:Events for The Independent
REFRESH-INTERVAL;VALUE=DURATION:PT1H
X-Robots-Tag:noindex
X-PUBLISHED-TTL:PT1H
BEGIN:VTIMEZONE
TZID:America/Chicago
BEGIN:DAYLIGHT
TZOFFSETFROM:-0600
TZOFFSETTO:-0500
TZNAME:CDT
DTSTART:20250309T080000
END:DAYLIGHT
BEGIN:STANDARD
TZOFFSETFROM:-0500
TZOFFSETTO:-0600
TZNAME:CST
DTSTART:20251102T070000
END:STANDARD
BEGIN:DAYLIGHT
TZOFFSETFROM:-0600
TZOFFSETTO:-0500
TZNAME:CDT
DTSTART:20260308T080000
END:DAYLIGHT
BEGIN:STANDARD
TZOFFSETFROM:-0500
TZOFFSETTO:-0600
TZNAME:CST
DTSTART:20261101T070000
END:STANDARD
BEGIN:DAYLIGHT
TZOFFSETFROM:-0600
TZOFFSETTO:-0500
TZNAME:CDT
DTSTART:20270314T080000
END:DAYLIGHT
BEGIN:STANDARD
TZOFFSETFROM:-0500
TZOFFSETTO:-0600
TZNAME:CST
DTSTART:20271107T070000
END:STANDARD
END:VTIMEZONE
BEGIN:VEVENT
DTSTART;TZID=America/Chicago:20260423T070000
DTEND;TZID=America/Chicago:20260423T070000
DTSTAMP:20260423T043743
CREATED:20251230T195827Z
LAST-MODIFIED:20260116T172411Z
UID:10000495-1776927600-1776927600@kcindependent.com
SUMMARY:SevenDays - Kindness Breakfast
DESCRIPTION:Kindness Breakfast\nThe Kindness Breakfast brings our community together to celebrate compassion\, connection\, and the powerful ripple effect of kindness. We honor our youth art competition and Kindness Action Scholarship winners\, as well as our Ripple of Kindness honorees. \n\n\nMission Statement: \nThe organization overcomes hate by promoting kindness and understanding through education and dialogue.
URL:https://kcindependent.com/event/sevendays-kindness-breakfast-2/
LOCATION:Resurrection\, A United Methodist Church – Leawood\, 66224
CATEGORIES:Charitable Events Calendar
ATTACH;FMTTYPE=image/png:https://kcindependent.com/wp-content/uploads/2025/12/Screenshot-2025-12-30-at-1.56.46-PM.png
ORGANIZER;CN="Ruth Bigus":MAILTO:ruth@sevendays.org
END:VEVENT
BEGIN:VEVENT
DTSTART;TZID=America/Chicago:20260423T173000
DTEND;TZID=America/Chicago:20260423T173000
DTSTAMP:20260423T043743
CREATED:20251230T184054Z
LAST-MODIFIED:20260226T012809Z
UID:10000484-1776965400-1776965400@kcindependent.com
SUMMARY:Wildwood Outdoor Education Center - Wild Night for Wildwood
DESCRIPTION:Wild Night for Wildwood\nThis year’s Wild Night celebration will feature a “Critters & Cocktails” theme. Guests will enjoy dinner\, camp-themed games\, a raffle\, and a live auction. Proceeds support scholarships for Kansas City kids. \n\n\nMission Statement: \nThe organization brings kids outside to learn and grow together\, transforming summer into a season of learning\, youth development\, and outdoor adventure for low-income Kansas City area youth.
URL:https://kcindependent.com/event/wildwood-outdoor-education-center-wild-night-for-wildwood/
LOCATION:Children’s Mercy Park\, 1 Sporting Way \, Kansas City\, KS\, 66111\, United States
CATEGORIES:Charitable Events Calendar
ORGANIZER;CN="Hunter Witt":MAILTO:hunter@wildwoodctr.org
GEO:39.122757;-94.8249294
X-APPLE-STRUCTURED-LOCATION;VALUE=URI;X-ADDRESS=Children’s Mercy Park 1 Sporting Way  Kansas City KS 66111 United States;X-APPLE-RADIUS=500;X-TITLE=1 Sporting Way:geo:-94.8249294,39.122757
END:VEVENT
BEGIN:VEVENT
DTSTART;TZID=America/Chicago:20260423T183000
DTEND;TZID=America/Chicago:20260423T183000
DTSTAMP:20260423T043743
CREATED:20251230T194729Z
LAST-MODIFIED:20260116T172453Z
UID:10000494-1776969000-1776969000@kcindependent.com
SUMMARY:Harry S. Truman Library Institute - Wild About Harry
DESCRIPTION:Wild About Harry\nWhether you love history\, love Harry\, or just love a great party\, you won’t want to miss Wild About Harry! The party kicks off with a sparkling social hour\, craft cocktails\, live music\, our very popular Truman green screen\, and a three-course dinner with wine. The highlight of the evening will be the presentation of the Harry S. Truman Legacy of Leadership Award to David Rubenstein\, followed by his keynote address. \n\n\nMission Statement: \nThe organization works to bring the life and legacy of Harry S. Truman to bear on current and future generations through the understanding of history\, the presidency\, domestic and foreign policy\, and citizenship.
URL:https://kcindependent.com/event/harry-s-truman-library-institute-wild-about-harry/
LOCATION:Muehlebach Tower of the Kansas City Marriott Downtown\, 200 W 12th Street\, Kansas City\, MO\, 64105\, United States
CATEGORIES:Charitable Events Calendar
ATTACH;FMTTYPE=image/png:https://kcindependent.com/wp-content/uploads/2025/12/Screenshot-2025-12-30-at-1.48.45-PM.png
ORGANIZER;CN="Kim Rausch - Truman Library Institute":MAILTO:kim.rausch@trumanlibraryinstitute.org
GEO:39.1004841;-94.5862754
X-APPLE-STRUCTURED-LOCATION;VALUE=URI;X-ADDRESS=Muehlebach Tower of the Kansas City Marriott Downtown 200 W 12th Street Kansas City MO 64105 United States;X-APPLE-RADIUS=500;X-TITLE=200 W 12th Street:geo:-94.5862754,39.1004841
END:VEVENT
END:VCALENDAR