BEGIN:VCALENDAR
VERSION:2.0
PRODID:-//The Independent - ECPv6.15.11//NONSGML v1.0//EN
CALSCALE:GREGORIAN
METHOD:PUBLISH
X-ORIGINAL-URL:https://kcindependent.com
X-WR-CALDESC:Events for The Independent
REFRESH-INTERVAL;VALUE=DURATION:PT1H
X-Robots-Tag:noindex
X-PUBLISHED-TTL:PT1H
BEGIN:VTIMEZONE
TZID:America/Chicago
BEGIN:DAYLIGHT
TZOFFSETFROM:-0600
TZOFFSETTO:-0500
TZNAME:CDT
DTSTART:20250309T080000
END:DAYLIGHT
BEGIN:STANDARD
TZOFFSETFROM:-0500
TZOFFSETTO:-0600
TZNAME:CST
DTSTART:20251102T070000
END:STANDARD
BEGIN:DAYLIGHT
TZOFFSETFROM:-0600
TZOFFSETTO:-0500
TZNAME:CDT
DTSTART:20260308T080000
END:DAYLIGHT
BEGIN:STANDARD
TZOFFSETFROM:-0500
TZOFFSETTO:-0600
TZNAME:CST
DTSTART:20261101T070000
END:STANDARD
BEGIN:DAYLIGHT
TZOFFSETFROM:-0600
TZOFFSETTO:-0500
TZNAME:CDT
DTSTART:20270314T080000
END:DAYLIGHT
BEGIN:STANDARD
TZOFFSETFROM:-0500
TZOFFSETTO:-0600
TZNAME:CST
DTSTART:20271107T070000
END:STANDARD
END:VTIMEZONE
BEGIN:VEVENT
DTSTART;TZID=America/Chicago:20260508T110000
DTEND;TZID=America/Chicago:20260508T110000
DTSTAMP:20260424T160547
CREATED:20251231T154407Z
LAST-MODIFIED:20260121T153149Z
UID:10000514-1778238000-1778238000@kcindependent.com
SUMMARY:Life Unlimited - Hats Off to Mothers
DESCRIPTION:Hats Off to Mothers\nThe annual event recognizes mothers who have demonstrated the remarkable ability to balance family life\, personal achievement\, and service to our community. This year’s theme is “Breakfast at Tiffany’s\,” and guests are encouraged to wear black and white and channel their best Audrey Hepburn look. \n\n\nMission Statement: \nThe organization supports people with disabilities as they experience life with unlimited possibilities. \n\n\n	Related:
URL:https://kcindependent.com/event/life-unlimited-hats-off-to-mothers/
LOCATION:The Westin Kansas City at Crown Center\, 1 E Pershing Rd\, Kansas City\, MO\, 64108\, United States
CATEGORIES:Charitable Events Calendar
ATTACH;FMTTYPE=image/png:https://kcindependent.com/wp-content/uploads/2025/12/Screenshot-2025-12-31-at-9.43.38-AM.png
ORGANIZER;CN="Andrea Adams":MAILTO:aadams@luinc.org
GEO:39.0833964;-94.5829858
X-APPLE-STRUCTURED-LOCATION;VALUE=URI;X-ADDRESS=The Westin Kansas City at Crown Center 1 E Pershing Rd Kansas City MO 64108 United States;X-APPLE-RADIUS=500;X-TITLE=1 E Pershing Rd:geo:-94.5829858,39.0833964
END:VEVENT
END:VCALENDAR