BEGIN:VCALENDAR
VERSION:2.0
PRODID:-//The Independent - ECPv6.15.11//NONSGML v1.0//EN
CALSCALE:GREGORIAN
METHOD:PUBLISH
X-WR-CALNAME:The Independent
X-ORIGINAL-URL:https://kcindependent.com
X-WR-CALDESC:Events for The Independent
REFRESH-INTERVAL;VALUE=DURATION:PT1H
X-Robots-Tag:noindex
X-PUBLISHED-TTL:PT1H
BEGIN:VTIMEZONE
TZID:America/Chicago
BEGIN:DAYLIGHT
TZOFFSETFROM:-0600
TZOFFSETTO:-0500
TZNAME:CDT
DTSTART:20230312T080000
END:DAYLIGHT
BEGIN:STANDARD
TZOFFSETFROM:-0500
TZOFFSETTO:-0600
TZNAME:CST
DTSTART:20231105T070000
END:STANDARD
BEGIN:DAYLIGHT
TZOFFSETFROM:-0600
TZOFFSETTO:-0500
TZNAME:CDT
DTSTART:20240310T080000
END:DAYLIGHT
BEGIN:STANDARD
TZOFFSETFROM:-0500
TZOFFSETTO:-0600
TZNAME:CST
DTSTART:20241103T070000
END:STANDARD
BEGIN:DAYLIGHT
TZOFFSETFROM:-0600
TZOFFSETTO:-0500
TZNAME:CDT
DTSTART:20250309T080000
END:DAYLIGHT
BEGIN:STANDARD
TZOFFSETFROM:-0500
TZOFFSETTO:-0600
TZNAME:CST
DTSTART:20251102T070000
END:STANDARD
END:VTIMEZONE
BEGIN:VEVENT
DTSTART;VALUE=DATE:20241123
DTEND;VALUE=DATE:20241124
DTSTAMP:20260419T133321
CREATED:20240327T155338Z
LAST-MODIFIED:20241001T181915Z
UID:10000211-1732320000-1732406399@kcindependent.com
SUMMARY:Folly Theater's Folly Frolic
DESCRIPTION:Folly Frolic: Michael Feinstein in “Because of You” featuring the Carnegie Hall Big Band. \n\n\nFolly Theater; To preserve the Folly Theater – Kansas City’s oldest historic theater – as a premier performance venue\, we commit to maintain our building’s heritage\, diversify our programs and entertainment offerings\, and be an enthusiastic participant in the continuing revitalization of Downtown Kansas City. \n\n\n	Related:
URL:https://kcindependent.com/event/folly-theaters-folly-frolic-2/
LOCATION:Folly Theater\, 300 W 12th Street\, Kansas City \, MO\, 64105\, United States
CATEGORIES:Charitable Events Calendar
ORGANIZER;CN="Brian Williams - Folly Theater":MAILTO:brain@follytheater.org
GEO:39.1003368;-94.587218
X-APPLE-STRUCTURED-LOCATION;VALUE=URI;X-ADDRESS=Folly Theater 300 W 12th Street Kansas City  MO 64105 United States;X-APPLE-RADIUS=500;X-TITLE=300 W 12th Street:geo:-94.587218,39.1003368
END:VEVENT
END:VCALENDAR