BEGIN:VCALENDAR
VERSION:2.0
PRODID:-//The Independent - ECPv6.15.11//NONSGML v1.0//EN
CALSCALE:GREGORIAN
METHOD:PUBLISH
X-WR-CALNAME:The Independent
X-ORIGINAL-URL:https://kcindependent.com
X-WR-CALDESC:Events for The Independent
REFRESH-INTERVAL;VALUE=DURATION:PT1H
X-Robots-Tag:noindex
X-PUBLISHED-TTL:PT1H
BEGIN:VTIMEZONE
TZID:America/Chicago
BEGIN:DAYLIGHT
TZOFFSETFROM:-0600
TZOFFSETTO:-0500
TZNAME:CDT
DTSTART:20230312T080000
END:DAYLIGHT
BEGIN:STANDARD
TZOFFSETFROM:-0500
TZOFFSETTO:-0600
TZNAME:CST
DTSTART:20231105T070000
END:STANDARD
BEGIN:DAYLIGHT
TZOFFSETFROM:-0600
TZOFFSETTO:-0500
TZNAME:CDT
DTSTART:20240310T080000
END:DAYLIGHT
BEGIN:STANDARD
TZOFFSETFROM:-0500
TZOFFSETTO:-0600
TZNAME:CST
DTSTART:20241103T070000
END:STANDARD
BEGIN:DAYLIGHT
TZOFFSETFROM:-0600
TZOFFSETTO:-0500
TZNAME:CDT
DTSTART:20250309T080000
END:DAYLIGHT
BEGIN:STANDARD
TZOFFSETFROM:-0500
TZOFFSETTO:-0600
TZNAME:CST
DTSTART:20251102T070000
END:STANDARD
END:VTIMEZONE
BEGIN:VEVENT
DTSTART;TZID=America/Chicago:20240912T173000
DTEND;TZID=America/Chicago:20240912T173000
DTSTAMP:20260423T055327
CREATED:20240731T140653Z
LAST-MODIFIED:20240731T140653Z
UID:10000242-1726162200-1726162200@kcindependent.com
SUMMARY:Ability KC
DESCRIPTION:The event commemorates the progress and accomplishments made at Ability KC through the dedication of staff and the resilience of patients and their families. Join us as we honor patients and celebrate another year of growth by sharing stories and thanking those who made them possible. \nAbility Luncheon\n\n\nTo build brighter futures for children and adults with disabilities by providing comprehensive educational\, vocational and therapeutic services. \n\n\n	Related:
URL:https://kcindependent.com/event/ability-kc/
LOCATION:Sheraton Kansas City Hotel at Crown Center\, 2345 McGee\, Kansas City\, MO\, United States
CATEGORIES:Charitable Events Calendar
ORGANIZER;CN="Christy D. Nitsche":MAILTO:christy.nitsche@abilitykc.org
GEO:39.084979;-94.579812
X-APPLE-STRUCTURED-LOCATION;VALUE=URI;X-ADDRESS=Sheraton Kansas City Hotel at Crown Center 2345 McGee Kansas City MO United States;X-APPLE-RADIUS=500;X-TITLE=2345 McGee:geo:-94.579812,39.084979
END:VEVENT
END:VCALENDAR