BEGIN:VCALENDAR
VERSION:2.0
PRODID:-//The Independent - ECPv6.15.11//NONSGML v1.0//EN
CALSCALE:GREGORIAN
METHOD:PUBLISH
X-ORIGINAL-URL:https://kcindependent.com
X-WR-CALDESC:Events for The Independent
REFRESH-INTERVAL;VALUE=DURATION:PT1H
X-Robots-Tag:noindex
X-PUBLISHED-TTL:PT1H
BEGIN:VTIMEZONE
TZID:America/Chicago
BEGIN:DAYLIGHT
TZOFFSETFROM:-0600
TZOFFSETTO:-0500
TZNAME:CDT
DTSTART:20230312T080000
END:DAYLIGHT
BEGIN:STANDARD
TZOFFSETFROM:-0500
TZOFFSETTO:-0600
TZNAME:CST
DTSTART:20231105T070000
END:STANDARD
BEGIN:DAYLIGHT
TZOFFSETFROM:-0600
TZOFFSETTO:-0500
TZNAME:CDT
DTSTART:20240310T080000
END:DAYLIGHT
BEGIN:STANDARD
TZOFFSETFROM:-0500
TZOFFSETTO:-0600
TZNAME:CST
DTSTART:20241103T070000
END:STANDARD
BEGIN:DAYLIGHT
TZOFFSETFROM:-0600
TZOFFSETTO:-0500
TZNAME:CDT
DTSTART:20250309T080000
END:DAYLIGHT
BEGIN:STANDARD
TZOFFSETFROM:-0500
TZOFFSETTO:-0600
TZNAME:CST
DTSTART:20251102T070000
END:STANDARD
END:VTIMEZONE
BEGIN:VEVENT
DTSTART;TZID=America/Chicago:20240912T160000
DTEND;TZID=America/Chicago:20240912T160000
DTSTAMP:20260419T102344
CREATED:20240506T165531Z
LAST-MODIFIED:20240718T152053Z
UID:10000223-1726156800-1726156800@kcindependent.com
SUMMARY:United WE's We Work for Change
DESCRIPTION:In its 33rd year\, We Work for Change will feature Keynote Speaker Linsey Davis\, American broadcast journalist at ABC News and author of the children’s book\, Girls of the World: Doing More Than Ever Before.\n\n\n\nUnited WE; Advances all women’s economic and civic leadership to make meaningful change through research\, advocacy\, policy solutions\, and civic engagement. \n\n\n\n\n	Related:
URL:https://kcindependent.com/event/united-wes-we-work-for-change/
LOCATION:The Nelson-Atkins Museum of Art\, 4525 Oak St\, Kansas City\, MO\, 64111\, United States
CATEGORIES:Charitable Events Calendar
ORGANIZER;CN="Contact United WE":MAILTO:events@united-we.org
GEO:39.0445698;-94.5806233
X-APPLE-STRUCTURED-LOCATION;VALUE=URI;X-ADDRESS=The Nelson-Atkins Museum of Art 4525 Oak St Kansas City MO 64111 United States;X-APPLE-RADIUS=500;X-TITLE=4525 Oak St:geo:-94.5806233,39.0445698
END:VEVENT
END:VCALENDAR