BEGIN:VCALENDAR
VERSION:2.0
PRODID:-//The Independent - ECPv6.15.11//NONSGML v1.0//EN
CALSCALE:GREGORIAN
METHOD:PUBLISH
X-ORIGINAL-URL:https://kcindependent.com
X-WR-CALDESC:Events for The Independent
REFRESH-INTERVAL;VALUE=DURATION:PT1H
X-Robots-Tag:noindex
X-PUBLISHED-TTL:PT1H
BEGIN:VTIMEZONE
TZID:America/Chicago
BEGIN:DAYLIGHT
TZOFFSETFROM:-0600
TZOFFSETTO:-0500
TZNAME:CDT
DTSTART:20230312T080000
END:DAYLIGHT
BEGIN:STANDARD
TZOFFSETFROM:-0500
TZOFFSETTO:-0600
TZNAME:CST
DTSTART:20231105T070000
END:STANDARD
BEGIN:DAYLIGHT
TZOFFSETFROM:-0600
TZOFFSETTO:-0500
TZNAME:CDT
DTSTART:20240310T080000
END:DAYLIGHT
BEGIN:STANDARD
TZOFFSETFROM:-0500
TZOFFSETTO:-0600
TZNAME:CST
DTSTART:20241103T070000
END:STANDARD
BEGIN:DAYLIGHT
TZOFFSETFROM:-0600
TZOFFSETTO:-0500
TZNAME:CDT
DTSTART:20250309T080000
END:DAYLIGHT
BEGIN:STANDARD
TZOFFSETFROM:-0500
TZOFFSETTO:-0600
TZNAME:CST
DTSTART:20251102T070000
END:STANDARD
END:VTIMEZONE
BEGIN:VEVENT
DTSTART;TZID=America/Chicago:20241003T080000
DTEND;TZID=America/Chicago:20241003T170000
DTSTAMP:20260419T120734
CREATED:20240820T172533Z
LAST-MODIFIED:20240820T172554Z
UID:10000249-1727942400-1727974800@kcindependent.com
SUMMARY:Growing Futures Early Education Center - Harvesting Hope
DESCRIPTION:The fun evening will feature a delicious menu from Chef D. Watts\, live music\, games\, and a stroll through our local vendors. \nHarvesting Hope\n\n\nGrowing Futures Early Education Center\, a Head Start for children and families\, provides quality early learning opportunities and family support services for children in Johnson County\, Kansas. Its Early Head Start and Head Start program serve children from birth through age five\, and their families. \n\n\n	Related:
URL:https://kcindependent.com/event/growing-futures-early-education-center-harvesting-hope/
LOCATION:Strang Hall Overland Park
CATEGORIES:Charitable Events Calendar
ORGANIZER;CN="Gabriella Salinas":MAILTO:gsalinas@growingfutureseec.org
END:VEVENT
END:VCALENDAR