BEGIN:VCALENDAR
VERSION:2.0
PRODID:-//The Independent - ECPv6.15.11//NONSGML v1.0//EN
CALSCALE:GREGORIAN
METHOD:PUBLISH
X-ORIGINAL-URL:https://kcindependent.com
X-WR-CALDESC:Events for The Independent
REFRESH-INTERVAL;VALUE=DURATION:PT1H
X-Robots-Tag:noindex
X-PUBLISHED-TTL:PT1H
BEGIN:VTIMEZONE
TZID:America/Chicago
BEGIN:DAYLIGHT
TZOFFSETFROM:-0600
TZOFFSETTO:-0500
TZNAME:CDT
DTSTART:20250309T080000
END:DAYLIGHT
BEGIN:STANDARD
TZOFFSETFROM:-0500
TZOFFSETTO:-0600
TZNAME:CST
DTSTART:20251102T070000
END:STANDARD
BEGIN:DAYLIGHT
TZOFFSETFROM:-0600
TZOFFSETTO:-0500
TZNAME:CDT
DTSTART:20260308T080000
END:DAYLIGHT
BEGIN:STANDARD
TZOFFSETFROM:-0500
TZOFFSETTO:-0600
TZNAME:CST
DTSTART:20261101T070000
END:STANDARD
BEGIN:DAYLIGHT
TZOFFSETFROM:-0600
TZOFFSETTO:-0500
TZNAME:CDT
DTSTART:20270314T080000
END:DAYLIGHT
BEGIN:STANDARD
TZOFFSETFROM:-0500
TZOFFSETTO:-0600
TZNAME:CST
DTSTART:20271107T070000
END:STANDARD
END:VTIMEZONE
BEGIN:VEVENT
DTSTART;TZID=America/Chicago:20260607T080000
DTEND;TZID=America/Chicago:20260607T080000
DTSTAMP:20260424T084120
CREATED:20251230T181932Z
LAST-MODIFIED:20260305T223909Z
UID:10000480-1780819200-1780819200@kcindependent.com
SUMMARY:Head for the Cure - Tour De Bier
DESCRIPTION:Tour De Bier\nThe Tour De Bier bike ride partners with six local breweries and offers 15\, 30\, and 50-mile ride options around Kansas City. Ride through the city and stop at partnering breweries to receive a beer sample. After the ride\, enjoy a lunch/after party featuring drinks\, delicious food\, live music\, and more! The event benefits Solace House and other brain tumor efforts. \n\n\nMission Statement: \nThe organization inspires hope for the community of brain cancer patients\, their families\, friends\, caregivers\, and other supporters\, while celebrating their courage\, spirit\, and energy. \n\n\n	Related:
URL:https://kcindependent.com/event/head-for-the-cure-tour-de-bier/
LOCATION:Union Station Kansas City\, 30 W Pershing Rd\, Kansas City\, MO\, 64108\, United States
CATEGORIES:Charitable Events Calendar
ORGANIZER;CN="Grace Rothweiler":MAILTO:grace@headforthecure.org
GEO:39.0853749;-94.5861078
X-APPLE-STRUCTURED-LOCATION;VALUE=URI;X-ADDRESS=Union Station Kansas City 30 W Pershing Rd Kansas City MO 64108 United States;X-APPLE-RADIUS=500;X-TITLE=30 W Pershing Rd:geo:-94.5861078,39.0853749
END:VEVENT
BEGIN:VEVENT
DTSTART;TZID=America/Chicago:20260823T070000
DTEND;TZID=America/Chicago:20260823T070000
DTSTAMP:20260424T084120
CREATED:20260106T173156Z
LAST-MODIFIED:20260121T222643Z
UID:10000550-1787468400-1787468400@kcindependent.com
SUMMARY:Head for the Cure - 24th Annual Head for the Cure 5K - Kansas City
DESCRIPTION:24th Annual Head for the Cure 5K – Kansas City\nJoin us for the 24th Annual Head for the Cure 5K – Kansas City! Enjoy your favorite KC mascots\, delicious treats\, live music\, vendors\, and more. Proceeds will support brain tumor efforts at The University of Kansas Cancer Center\, Saint Luke’s – Marion Bloch Neuroscience Institute\, Children’s Mercy\, Children’s Brain Tumor Project\, Solace House\, and other national brain tumor initiatives. \n\n\nMission Statement: \nThe organization inspires hope for the community of brain cancer patients\, their families\, friends\, caregivers\, and other supporters\, while celebrating their courage\, spirit\, and energy. \n\n\n	Related:
URL:https://kcindependent.com/event/head-for-the-cure-24th-annual-head-for-the-cure-5k-kansas-city/
LOCATION:Corporate Woods
CATEGORIES:Charitable Events Calendar
ATTACH;FMTTYPE=image/png:https://kcindependent.com/wp-content/uploads/2026/01/Screenshot-2026-01-06-at-11.31.14-AM.png
ORGANIZER;CN="Grace Rothweiler":MAILTO:grace@headforthecure.org
END:VEVENT
END:VCALENDAR