BEGIN:VCALENDAR
VERSION:2.0
PRODID:-//The Independent - ECPv6.15.11//NONSGML v1.0//EN
CALSCALE:GREGORIAN
METHOD:PUBLISH
X-WR-CALNAME:The Independent
X-ORIGINAL-URL:https://kcindependent.com
X-WR-CALDESC:Events for The Independent
REFRESH-INTERVAL;VALUE=DURATION:PT1H
X-Robots-Tag:noindex
X-PUBLISHED-TTL:PT1H
BEGIN:VTIMEZONE
TZID:America/Chicago
BEGIN:DAYLIGHT
TZOFFSETFROM:-0600
TZOFFSETTO:-0500
TZNAME:CDT
DTSTART:20240310T080000
END:DAYLIGHT
BEGIN:STANDARD
TZOFFSETFROM:-0500
TZOFFSETTO:-0600
TZNAME:CST
DTSTART:20241103T070000
END:STANDARD
BEGIN:DAYLIGHT
TZOFFSETFROM:-0600
TZOFFSETTO:-0500
TZNAME:CDT
DTSTART:20250309T080000
END:DAYLIGHT
BEGIN:STANDARD
TZOFFSETFROM:-0500
TZOFFSETTO:-0600
TZNAME:CST
DTSTART:20251102T070000
END:STANDARD
BEGIN:DAYLIGHT
TZOFFSETFROM:-0600
TZOFFSETTO:-0500
TZNAME:CDT
DTSTART:20260308T080000
END:DAYLIGHT
BEGIN:STANDARD
TZOFFSETFROM:-0500
TZOFFSETTO:-0600
TZNAME:CST
DTSTART:20261101T070000
END:STANDARD
END:VTIMEZONE
BEGIN:VEVENT
DTSTART;VALUE=DATE:20250927
DTEND;VALUE=DATE:20250928
DTSTAMP:20260424T082958
CREATED:20241210T183308Z
LAST-MODIFIED:20250701T182004Z
UID:10000305-1758931200-1759017599@kcindependent.com
SUMMARY:KC Shepherd’s Center - 70 over 70 Reunion and Fall BBQ
DESCRIPTION:Enjoy an outdoor fall picnic featuring a barbecue truck\, local culinary\, treats\, music\, fun\, and games to celebrate our 70 over 70 alumni\, volunteers\, and community. \n70 over 70 Reunion and Fall BBQ\n\n\nGuest will learn more about KC Shepard’s Center’s mission to honor our elders by celebrating\, empowering\, and serving older adults in Kansas City. \n\n\n	Related:
URL:https://kcindependent.com/event/kc-shepherds-center-70-over-70-class-reunion/
CATEGORIES:Charitable Events Calendar
ATTACH;FMTTYPE=image/png:https://kcindependent.com/wp-content/uploads/2024/12/Screenshot-2025-07-01-at-1.17.46 PM.png
ORGANIZER;CN="Janet Baker":MAILTO:events@kcshepherdscenter.org
END:VEVENT
BEGIN:VEVENT
DTSTART;TZID=America/Chicago:20250529T180000
DTEND;TZID=America/Chicago:20250529T180000
DTSTAMP:20260424T082958
CREATED:20250528T154048Z
LAST-MODIFIED:20250528T154048Z
UID:10000413-1748541600-1748541600@kcindependent.com
SUMMARY:KC Shepard Center - Guac Your World: A Taco Competition
DESCRIPTION:Local chefs will compete to be the “Grand Champion of Tacos.” Guests will enjoy creative tacos\, guac\, margaritas\, entertainment\, and a sunset on a Downtown Kansas City rooftop. \nGuac Your World: A Taco Competition\n\n\nTo honor our elders by celebrating\, empowering and serving older adults in Kansas City. \n\n\n	Related:
URL:https://kcindependent.com/event/kc-shepard-center-guac-your-world-a-taco-competition/
LOCATION:Corrigan Station Rooftop
CATEGORIES:Charitable Events Calendar
ATTACH;FMTTYPE=image/png:https://kcindependent.com/wp-content/uploads/2025/05/Screenshot-2025-05-28-at-10.35.39 AM.png
ORGANIZER;CN="Janet Baker":MAILTO:events@kcshepherdscenter.org
END:VEVENT
END:VCALENDAR