BEGIN:VCALENDAR
VERSION:2.0
PRODID:-//The Independent - ECPv6.15.11//NONSGML v1.0//EN
CALSCALE:GREGORIAN
METHOD:PUBLISH
X-ORIGINAL-URL:https://kcindependent.com
X-WR-CALDESC:Events for The Independent
REFRESH-INTERVAL;VALUE=DURATION:PT1H
X-Robots-Tag:noindex
X-PUBLISHED-TTL:PT1H
BEGIN:VTIMEZONE
TZID:America/Chicago
BEGIN:DAYLIGHT
TZOFFSETFROM:-0600
TZOFFSETTO:-0500
TZNAME:CDT
DTSTART:20250309T080000
END:DAYLIGHT
BEGIN:STANDARD
TZOFFSETFROM:-0500
TZOFFSETTO:-0600
TZNAME:CST
DTSTART:20251102T070000
END:STANDARD
BEGIN:DAYLIGHT
TZOFFSETFROM:-0600
TZOFFSETTO:-0500
TZNAME:CDT
DTSTART:20260308T080000
END:DAYLIGHT
BEGIN:STANDARD
TZOFFSETFROM:-0500
TZOFFSETTO:-0600
TZNAME:CST
DTSTART:20261101T070000
END:STANDARD
BEGIN:DAYLIGHT
TZOFFSETFROM:-0600
TZOFFSETTO:-0500
TZNAME:CDT
DTSTART:20270314T080000
END:DAYLIGHT
BEGIN:STANDARD
TZOFFSETFROM:-0500
TZOFFSETTO:-0600
TZNAME:CST
DTSTART:20271107T070000
END:STANDARD
END:VTIMEZONE
BEGIN:VEVENT
DTSTART;TZID=America/Chicago:20260518T173000
DTEND;TZID=America/Chicago:20260518T173000
DTSTAMP:20260424T032308
CREATED:20251231T162620Z
LAST-MODIFIED:20260121T153902Z
UID:10000520-1779125400-1779125400@kcindependent.com
SUMMARY:Big Brothers Big Sisters Kansas City - Legacy Golf Tournament
DESCRIPTION:Legacy Golf Tournament\nThe Legacy Golf Tournament is designed for community and business leaders as one of the premier client entertainment events in our area. Golfers will enjoy unmatched player amenities\, including an Under Armour gift salon that features apparel\, shoes\, accessories\, and more! \n\nMission Statement: \nThe organization works to clear the path to a child’s biggest possible future by matching them with a caring\, adult mentor in a one-to-one friendship. \n\n\n	Related:
URL:https://kcindependent.com/event/big-brothers-big-sisters-kansas-city-legacy-golf-tournament-3/
LOCATION:The Country Club at Loch Lloyd\, 16750 S. Country Club Drive\, Belton\, MO\, 64012\, United States
CATEGORIES:Charitable Events Calendar
ORGANIZER;CN="Jordan Cronan":MAILTO:jordan.cronan@bbbskc.org
GEO:38.8292208;-94.5897599
X-APPLE-STRUCTURED-LOCATION;VALUE=URI;X-ADDRESS=The Country Club at Loch Lloyd 16750 S. Country Club Drive Belton MO 64012 United States;X-APPLE-RADIUS=500;X-TITLE=16750 S. Country Club Drive:geo:-94.5897599,38.8292208
END:VEVENT
BEGIN:VEVENT
DTSTART;TZID=America/Chicago:20260608T083000
DTEND;TZID=America/Chicago:20260608T083000
DTSTAMP:20260424T032308
CREATED:20260105T182645Z
LAST-MODIFIED:20260121T220537Z
UID:10000533-1780907400-1780907400@kcindependent.com
SUMMARY:Big Brothers Big Sisters Kansas City - Legacy Golf Tournament
DESCRIPTION:Legacy Golf Tournament\nThe Legacy Golf Tournament is designed for community and business leaders as one of the premier client entertainment events in our area. Golfers will enjoy unmatched player amenities\, including an Under Armour gift salon that features apparel\, shoes\, accessories\, and more! \n\n\nMission Statement: \nThe organization works to clear the path to a child’s biggest possible future by matching them with a caring\, adult mentor in a one-to-one friendship. \n\n\n	Related:
URL:https://kcindependent.com/event/big-brothers-big-sisters-kansas-city-legacy-golf-tournament-4/
LOCATION:Oakwood Country Club\, 9800 Grandview Rd\, Kansas City\, MO\, 64137\, United States
CATEGORIES:Charitable Events Calendar
ORGANIZER;CN="Jordan Cronan":MAILTO:jordan.cronan@bbbskc.org
GEO:38.9481239;-94.5530561
X-APPLE-STRUCTURED-LOCATION;VALUE=URI;X-ADDRESS=Oakwood Country Club 9800 Grandview Rd Kansas City MO 64137 United States;X-APPLE-RADIUS=500;X-TITLE=9800 Grandview Rd:geo:-94.5530561,38.9481239
END:VEVENT
BEGIN:VEVENT
DTSTART;TZID=America/Chicago:20260708T180000
DTEND;TZID=America/Chicago:20260724T180000
DTSTAMP:20260424T032308
CREATED:20260105T183940Z
LAST-MODIFIED:20260121T221120Z
UID:10000538-1783533600-1784916000@kcindependent.com
SUMMARY:Big Brothers Big Sisters Kansas City - Summer Bowl for Kids’ Sake
DESCRIPTION:Summer Bowl for Kids’ Sake\nSummer Bowl for Kids’ Sake is Big Brothers Big Sisters biggest feel-good party of the summer. Bowling teams will celebrate their fundraising efforts with free bowling\, pizza\, beer\, and prizes! Bowling sessions take place between July 8th and 24th\, so teams can choose one night that works best for them. \n\n\nMission Statement: \n The organization works to clear the path to a child’s biggest possible future by matching them with a caring\, adult mentor in a one-to-one friendship. \n\n\n	Related:
URL:https://kcindependent.com/event/big-brothers-big-sisters-kansas-city-summer-bowl-for-kids-sake-2/
LOCATION:Park Lanes – Shawnee\, KS\, 7701 Renner Rd \, Shawnee\, KS\, 66217\, United States
CATEGORIES:Charitable Events Calendar
ORGANIZER;CN="Jordan Cronan":MAILTO:jordan.cronan@bbbskc.org
GEO:38.9901008;-94.7784655
X-APPLE-STRUCTURED-LOCATION;VALUE=URI;X-ADDRESS=Park Lanes – Shawnee KS 7701 Renner Rd  Shawnee KS 66217 United States;X-APPLE-RADIUS=500;X-TITLE=7701 Renner Rd:geo:-94.7784655,38.9901008
END:VEVENT
BEGIN:VEVENT
DTSTART;VALUE=DATE:20260829
DTEND;VALUE=DATE:20260830
DTSTAMP:20260424T032308
CREATED:20260106T173447Z
LAST-MODIFIED:20260121T222816Z
UID:10000551-1787961600-1788047999@kcindependent.com
SUMMARY:Big Brothers Big Sisters Kansas City - Rise
DESCRIPTION:Rise\nRise is a unique event where attendees crawl through exclusive\, private rooftops in the Crossroads District with incredible views of the downtown skyline. Guests will enjoy food\, drinks\, music\, and themed fun as they travel from one rooftop to the next\, ending with an after-party celebration. \n\n\nMission Statement: \nThe organization works to clear the path to a child’s biggest possible future by matching them with a caring\, adult mentor in a one-to-one friendship. \n\n\n	Related:
URL:https://kcindependent.com/event/big-brothers-big-sisters-kansas-city-rise/
LOCATION:The Crossroads
CATEGORIES:Charitable Events Calendar
ORGANIZER;CN="Jordan Cronan":MAILTO:jordan.cronan@bbbskc.org
END:VEVENT
BEGIN:VEVENT
DTSTART;VALUE=DATE:20261207
DTEND;VALUE=DATE:20261208
DTSTAMP:20260424T032308
CREATED:20260107T210911Z
LAST-MODIFIED:20260122T173101Z
UID:10000594-1796601600-1796687999@kcindependent.com
SUMMARY:Big Brothers Big Sisters Kansas City - Most Wanted Auction
DESCRIPTION:Most Wanted Auction\nEach year\, a class of dynamic\, charismatic\, charitable\, passionate\, hardworking professionals are chosen to be honored as Kansas City’s Most Wanted. Guests will enjoy live music\, entertainment\, inspiring mission moments\, and incredible live and silent auction packages. \n\n\nMission Statement: \nThe organization works to clear the path to a child’s biggest possible future by matching them with a caring\, adult mentor in a one-to-one friendship. \n\n\n	Related:
URL:https://kcindependent.com/event/big-brothers-big-sisters-kansas-city-most-wanted-auction-2/
LOCATION:The Midland Theatre\, 1228 Main Street\, Kansas City\, MO\, United States
CATEGORIES:Charitable Events Calendar
ORGANIZER;CN="Jordan Cronan":MAILTO:jordan.cronan@bbbskc.org
GEO:39.0988516;-94.5834597
X-APPLE-STRUCTURED-LOCATION;VALUE=URI;X-ADDRESS=The Midland Theatre 1228 Main Street Kansas City MO United States;X-APPLE-RADIUS=500;X-TITLE=1228 Main Street:geo:-94.5834597,39.0988516
END:VEVENT
END:VCALENDAR