BEGIN:VCALENDAR
VERSION:2.0
PRODID:-//The Independent - ECPv6.15.11//NONSGML v1.0//EN
CALSCALE:GREGORIAN
METHOD:PUBLISH
X-WR-CALNAME:The Independent
X-ORIGINAL-URL:https://kcindependent.com
X-WR-CALDESC:Events for The Independent
REFRESH-INTERVAL;VALUE=DURATION:PT1H
X-Robots-Tag:noindex
X-PUBLISHED-TTL:PT1H
BEGIN:VTIMEZONE
TZID:America/Chicago
BEGIN:DAYLIGHT
TZOFFSETFROM:-0600
TZOFFSETTO:-0500
TZNAME:CDT
DTSTART:20250309T080000
END:DAYLIGHT
BEGIN:STANDARD
TZOFFSETFROM:-0500
TZOFFSETTO:-0600
TZNAME:CST
DTSTART:20251102T070000
END:STANDARD
BEGIN:DAYLIGHT
TZOFFSETFROM:-0600
TZOFFSETTO:-0500
TZNAME:CDT
DTSTART:20260308T080000
END:DAYLIGHT
BEGIN:STANDARD
TZOFFSETFROM:-0500
TZOFFSETTO:-0600
TZNAME:CST
DTSTART:20261101T070000
END:STANDARD
BEGIN:DAYLIGHT
TZOFFSETFROM:-0600
TZOFFSETTO:-0500
TZNAME:CDT
DTSTART:20270314T080000
END:DAYLIGHT
BEGIN:STANDARD
TZOFFSETFROM:-0500
TZOFFSETTO:-0600
TZNAME:CST
DTSTART:20271107T070000
END:STANDARD
END:VTIMEZONE
BEGIN:VEVENT
DTSTART;TZID=America/Chicago:20260620T180000
DTEND;TZID=America/Chicago:20260620T180000
DTSTAMP:20260424T054907
CREATED:20260105T183126Z
LAST-MODIFIED:20260121T220753Z
UID:10000535-1781978400-1781978400@kcindependent.com
SUMMARY:The Jewel Ball
DESCRIPTION:The Jewel Ball\nA Debutante and Gentleman presentation of longstanding civic and cultural significance. A benefit for two of Kansas City’s greatest assets\, The Nelson-Atkins Museum of Art and the Kansas City Symphony. \n\n\n  \n\n\n	Related:
URL:https://kcindependent.com/event/the-jewel-ball-3/
LOCATION:The Nelson-Atkins Museum of Art\, 4525 Oak St\, Kansas City\, MO\, 64111\, United States
CATEGORIES:Charitable Events Calendar
ORGANIZER;CN="Kim Aliber":MAILTO:jewelball24@gmail.com
GEO:39.0445698;-94.5806233
X-APPLE-STRUCTURED-LOCATION;VALUE=URI;X-ADDRESS=The Nelson-Atkins Museum of Art 4525 Oak St Kansas City MO 64111 United States;X-APPLE-RADIUS=500;X-TITLE=4525 Oak St:geo:-94.5806233,39.0445698
END:VEVENT
END:VCALENDAR