BEGIN:VCALENDAR
VERSION:2.0
PRODID:-//The Independent - ECPv6.15.11//NONSGML v1.0//EN
CALSCALE:GREGORIAN
METHOD:PUBLISH
X-ORIGINAL-URL:https://kcindependent.com
X-WR-CALDESC:Events for The Independent
REFRESH-INTERVAL;VALUE=DURATION:PT1H
X-Robots-Tag:noindex
X-PUBLISHED-TTL:PT1H
BEGIN:VTIMEZONE
TZID:America/Chicago
BEGIN:DAYLIGHT
TZOFFSETFROM:-0600
TZOFFSETTO:-0500
TZNAME:CDT
DTSTART:20230312T080000
END:DAYLIGHT
BEGIN:STANDARD
TZOFFSETFROM:-0500
TZOFFSETTO:-0600
TZNAME:CST
DTSTART:20231105T070000
END:STANDARD
BEGIN:DAYLIGHT
TZOFFSETFROM:-0600
TZOFFSETTO:-0500
TZNAME:CDT
DTSTART:20240310T080000
END:DAYLIGHT
BEGIN:STANDARD
TZOFFSETFROM:-0500
TZOFFSETTO:-0600
TZNAME:CST
DTSTART:20241103T070000
END:STANDARD
BEGIN:DAYLIGHT
TZOFFSETFROM:-0600
TZOFFSETTO:-0500
TZNAME:CDT
DTSTART:20250309T080000
END:DAYLIGHT
BEGIN:STANDARD
TZOFFSETFROM:-0500
TZOFFSETTO:-0600
TZNAME:CST
DTSTART:20251102T070000
END:STANDARD
END:VTIMEZONE
BEGIN:VEVENT
DTSTART;TZID=America/Chicago:20240621T100000
DTEND;TZID=America/Chicago:20240621T100000
DTSTAMP:20260419T133549
CREATED:20240213T184930Z
LAST-MODIFIED:20240213T184930Z
UID:10000150-1718964000-1718964000@kcindependent.com
SUMMARY:Make Music Alliance and Kansas City Parks & Recreation's Make Music Day Kansas City
DESCRIPTION:Part of the international Fete de la Musique\, this event is a celebration of sound\, occurring annually on the same day\, June 21st\, in more than 1\,000 cities in 120 countries. Attendees can experience all genres of music metrowide. Locations include The National WWI Museum and Memorial\, Kansas City Zoo\, Jazz Museum\, Loose Park\, Mill Creek Park\, Union Station Kansas City\, Up Cycle Piano Shop\, and KC City Market; Pack a picnic and enjoy the day! \n\n\nMake Music Alliance and Make Music Day Kansas City; To strength social and cultural ties\, elevate the profile of our city\, and support all musicians and educators. \n\n\n	Related:
URL:https://kcindependent.com/event/make-music-alliance-and-kansas-city-parks-recreations-make-music-day-kansas-city/
CATEGORIES:Charitable Events Calendar
ATTACH;FMTTYPE=image/jpeg:https://kcindependent.com/wp-content/uploads/2024/02/6.21-MMA-PIC-3.jpg
ORGANIZER;CN="Nancy McGuire - MMA":MAILTO:nancemcguire@kc.rr.com
END:VEVENT
END:VCALENDAR