BEGIN:VCALENDAR
VERSION:2.0
PRODID:-//The Independent - ECPv6.15.11//NONSGML v1.0//EN
CALSCALE:GREGORIAN
METHOD:PUBLISH
X-WR-CALNAME:The Independent
X-ORIGINAL-URL:https://kcindependent.com
X-WR-CALDESC:Events for The Independent
REFRESH-INTERVAL;VALUE=DURATION:PT1H
X-Robots-Tag:noindex
X-PUBLISHED-TTL:PT1H
BEGIN:VTIMEZONE
TZID:America/Chicago
BEGIN:DAYLIGHT
TZOFFSETFROM:-0600
TZOFFSETTO:-0500
TZNAME:CDT
DTSTART:20230312T080000
END:DAYLIGHT
BEGIN:STANDARD
TZOFFSETFROM:-0500
TZOFFSETTO:-0600
TZNAME:CST
DTSTART:20231105T070000
END:STANDARD
BEGIN:DAYLIGHT
TZOFFSETFROM:-0600
TZOFFSETTO:-0500
TZNAME:CDT
DTSTART:20240310T080000
END:DAYLIGHT
BEGIN:STANDARD
TZOFFSETFROM:-0500
TZOFFSETTO:-0600
TZNAME:CST
DTSTART:20241103T070000
END:STANDARD
BEGIN:DAYLIGHT
TZOFFSETFROM:-0600
TZOFFSETTO:-0500
TZNAME:CDT
DTSTART:20250309T080000
END:DAYLIGHT
BEGIN:STANDARD
TZOFFSETFROM:-0500
TZOFFSETTO:-0600
TZNAME:CST
DTSTART:20251102T070000
END:STANDARD
BEGIN:DAYLIGHT
TZOFFSETFROM:-0600
TZOFFSETTO:-0500
TZNAME:CDT
DTSTART:20260308T080000
END:DAYLIGHT
BEGIN:STANDARD
TZOFFSETFROM:-0500
TZOFFSETTO:-0600
TZNAME:CST
DTSTART:20261101T070000
END:STANDARD
END:VTIMEZONE
BEGIN:VEVENT
DTSTART;TZID=America/Chicago:20250402T073000
DTEND;TZID=America/Chicago:20250402T073000
DTSTAMP:20260421T045415
CREATED:20241205T160204Z
LAST-MODIFIED:20241211T170658Z
UID:10000282-1743579000-1743579000@kcindependent.com
SUMMARY:Seven Days - Kindness Breakfast
DESCRIPTION:Enjoy this inspiring breakfast event focused on youth. The morning includes sharing the accomplishments of area youth promoting kindness through the Kindness Youth Leadership Team\, SevenDays art competition\, as well as Kindness Action scholarships; Business attire. \nKindness Breakfast\n\n\nOvercoming hate by promoting kindness and understanding through education and dialogue. \n\n\n	Related:
URL:https://kcindependent.com/event/seven-days-kindness-breakfast/
LOCATION:United Methodist Church of the Resurrection – Leawood Campus
CATEGORIES:Charitable Events Calendar
ATTACH;FMTTYPE=image/jpeg:https://kcindependent.com/wp-content/uploads/2024/12/SevenDays_Logo_bw.jpg
ORGANIZER;CN="Ruth Bigus":MAILTO:ruth@sevendays.org
END:VEVENT
BEGIN:VEVENT
DTSTART;TZID=America/Chicago:20240414T163000
DTEND;TZID=America/Chicago:20240414T163000
DTSTAMP:20260421T045415
CREATED:20240326T152618Z
LAST-MODIFIED:20240326T152618Z
UID:10000207-1713112200-1713112200@kcindependent.com
SUMMARY:SevenDays' Community Kindness Festival
DESCRIPTION:Hosted by our 2024 Kindness Youth Leadership Team and corporate sponsors committed to teaching kindness\, the festival features live music by The Voice star Kate Cosentino\, food trucks\, and family-friendly activities for all ages. \n\n\nSevenDays; SevenDays® is a Kansas City-based\, non-profit organization that overcomes hate by promoting kindness and understanding through education and dialogue. \n\n\n	Related:
URL:https://kcindependent.com/event/sevendays-community-kindness-festival/
LOCATION:Jewish Community Center
CATEGORIES:Charitable Events Calendar
ORGANIZER;CN="Ruth Bigus":MAILTO:ruth@sevendays.org
END:VEVENT
BEGIN:VEVENT
DTSTART;TZID=America/Chicago:20240410T073000
DTEND;TZID=America/Chicago:20240410T073000
DTSTAMP:20260421T045415
CREATED:20231220T175705Z
LAST-MODIFIED:20231220T175705Z
UID:10000017-1712734200-1712734200@kcindependent.com
SUMMARY:SevenDays' Kindness Breakfast
DESCRIPTION:Hosted by our 2024 Kindness Youth Leadership Team and special guests\, you will leave inspired to promote kindness through education and dialogue. A highlight of the morning will be a focus on area youth spreading kindness and the 2024 Ripple of Kindness Award Winner. \n\n\nSevenDays: Overcoming hate by promoting kindness and understanding through education and dialogue. SevenDays honors Reat Underwood\, William Corporon\, and Terri LaManno\, whose lives were taken by hate in 2014 outside of Jewish facilities. Kindness is their legacy. \n\n\n	Related:
URL:https://kcindependent.com/event/sevendays-kindness-breakfast/
LOCATION:United Methodist Church of the Resurrection – Leawood Campus
CATEGORIES:Charitable Events Calendar
ORGANIZER;CN="Ruth Bigus":MAILTO:ruth@sevendays.org
END:VEVENT
END:VCALENDAR