BEGIN:VCALENDAR
VERSION:2.0
PRODID:-//The Independent - ECPv6.15.11//NONSGML v1.0//EN
CALSCALE:GREGORIAN
METHOD:PUBLISH
X-ORIGINAL-URL:https://kcindependent.com
X-WR-CALDESC:Events for The Independent
REFRESH-INTERVAL;VALUE=DURATION:PT1H
X-Robots-Tag:noindex
X-PUBLISHED-TTL:PT1H
BEGIN:VTIMEZONE
TZID:America/Chicago
BEGIN:DAYLIGHT
TZOFFSETFROM:-0600
TZOFFSETTO:-0500
TZNAME:CDT
DTSTART:20230312T080000
END:DAYLIGHT
BEGIN:STANDARD
TZOFFSETFROM:-0500
TZOFFSETTO:-0600
TZNAME:CST
DTSTART:20231105T070000
END:STANDARD
BEGIN:DAYLIGHT
TZOFFSETFROM:-0600
TZOFFSETTO:-0500
TZNAME:CDT
DTSTART:20240310T080000
END:DAYLIGHT
BEGIN:STANDARD
TZOFFSETFROM:-0500
TZOFFSETTO:-0600
TZNAME:CST
DTSTART:20241103T070000
END:STANDARD
BEGIN:DAYLIGHT
TZOFFSETFROM:-0600
TZOFFSETTO:-0500
TZNAME:CDT
DTSTART:20250309T080000
END:DAYLIGHT
BEGIN:STANDARD
TZOFFSETFROM:-0500
TZOFFSETTO:-0600
TZNAME:CST
DTSTART:20251102T070000
END:STANDARD
END:VTIMEZONE
BEGIN:VEVENT
DTSTART;TZID=America/Chicago:20241012T080000
DTEND;TZID=America/Chicago:20241012T080000
DTSTAMP:20260419T180855
CREATED:20240311T193704Z
LAST-MODIFIED:20240311T193704Z
UID:10000199-1728720000-1728720000@kcindependent.com
SUMMARY:Catholic Charities of Kansas City-St. Joseph's Outpace Poverty 5K
DESCRIPTION:Join us for our annual\, family-fun 5K walk/run! One in eight of our Missouri neighbors are food insecure. We think that number is too high. Join us to raise awareness and help Outpace Poverty in our community. \n\n\nCatholic Charities of Kansas City-St. Joseph; Helping people move to a better life through hope-filled care\, services\, and advocacy; calling all those of goodwill to join us. \n\n\n	Related:
URL:https://kcindependent.com/event/catholic-charities-of-kansas-city-st-josephs-outpace-poverty-5k/
LOCATION:Avila University\, 11901 Wonrall Rd. \, Kansas City\, MO\, 64145\, United States
CATEGORIES:Charitable Events Calendar
ORGANIZER;CN="Susan Walker - Catholic Charities":MAILTO:swalker@ccharities.com
GEO:38.9122184;-94.5914011
X-APPLE-STRUCTURED-LOCATION;VALUE=URI;X-ADDRESS=Avila University 11901 Wonrall Rd.  Kansas City MO 64145 United States;X-APPLE-RADIUS=500;X-TITLE=11901 Wonrall Rd.:geo:-94.5914011,38.9122184
END:VEVENT
BEGIN:VEVENT
DTSTART;TZID=America/Chicago:20240427T180000
DTEND;TZID=America/Chicago:20240427T180000
DTSTAMP:20260419T180855
CREATED:20231220T193613Z
LAST-MODIFIED:20231220T193613Z
UID:10000102-1714240800-1714240800@kcindependent.com
SUMMARY:Catholic Charities of Kansas City-St. Joseph's Celebration of Hope Gala
DESCRIPTION:Join us\, as we celebrate our accomplishments\, but also celebrate the success of families achieving their dreams\, too. Cocktail hour followed by a dinner and program. \n\n\nCatholic Charities of Kansas City-St. Joseph; Helping people move to a better life through hope-filled care\, services\, and advocacy; calling all those of goodwill to join us. \n \n\n\n	Related:
URL:https://kcindependent.com/event/catholic-charities-of-kansas-city-st-josephs-celebration-of-hope-gala/
CATEGORIES:Charitable Events Calendar
ATTACH;FMTTYPE=image/jpeg:https://kcindependent.com/wp-content/uploads/2023/12/4.27-CATHOLIC-LOGO.jpg
ORGANIZER;CN="Susan Walker - Catholic Charities":MAILTO:swalker@ccharities.com
END:VEVENT
END:VCALENDAR