BEGIN:VCALENDAR
VERSION:2.0
PRODID:-//The Independent - ECPv6.15.11//NONSGML v1.0//EN
CALSCALE:GREGORIAN
METHOD:PUBLISH
X-WR-CALNAME:The Independent
X-ORIGINAL-URL:https://kcindependent.com
X-WR-CALDESC:Events for The Independent
REFRESH-INTERVAL;VALUE=DURATION:PT1H
X-Robots-Tag:noindex
X-PUBLISHED-TTL:PT1H
BEGIN:VTIMEZONE
TZID:America/Chicago
BEGIN:DAYLIGHT
TZOFFSETFROM:-0600
TZOFFSETTO:-0500
TZNAME:CDT
DTSTART:20230312T080000
END:DAYLIGHT
BEGIN:STANDARD
TZOFFSETFROM:-0500
TZOFFSETTO:-0600
TZNAME:CST
DTSTART:20231105T070000
END:STANDARD
BEGIN:DAYLIGHT
TZOFFSETFROM:-0600
TZOFFSETTO:-0500
TZNAME:CDT
DTSTART:20240310T080000
END:DAYLIGHT
BEGIN:STANDARD
TZOFFSETFROM:-0500
TZOFFSETTO:-0600
TZNAME:CST
DTSTART:20241103T070000
END:STANDARD
BEGIN:DAYLIGHT
TZOFFSETFROM:-0600
TZOFFSETTO:-0500
TZNAME:CDT
DTSTART:20250309T080000
END:DAYLIGHT
BEGIN:STANDARD
TZOFFSETFROM:-0500
TZOFFSETTO:-0600
TZNAME:CST
DTSTART:20251102T070000
END:STANDARD
BEGIN:DAYLIGHT
TZOFFSETFROM:-0600
TZOFFSETTO:-0500
TZNAME:CDT
DTSTART:20260308T080000
END:DAYLIGHT
BEGIN:STANDARD
TZOFFSETFROM:-0500
TZOFFSETTO:-0600
TZNAME:CST
DTSTART:20261101T070000
END:STANDARD
END:VTIMEZONE
BEGIN:VEVENT
DTSTART;TZID=America/Chicago:20251001T110000
DTEND;TZID=America/Chicago:20251001T110000
DTSTAMP:20260421T061234
CREATED:20250910T165915Z
LAST-MODIFIED:20250910T165915Z
UID:10000441-1759316400-1759316400@kcindependent.com
SUMMARY:Kansas City Metropolitan Crime Commission - 76th Annual Law Enforcement Appreciation Luncheon
DESCRIPTION:Bringing our community leaders and area law enforcement personnel together for the good of everyone in our Greater Kansas City community. Table sponsors will bring four guests\, and the remaining four seats will be donated to local law enforcement agencies as a thank you for their service. \n76th Annual Law Enforcement Appreciation Luncheon\n\n\nAdvocating\, developing strategies and operating innovative programs that bring people and public safety agencies together to power a safer\, better Greater Kansas City community. \n\n\n	Related:
URL:https://kcindependent.com/event/kansas-city-metropolitan-crime-commission-76th-annual-law-enforcement-appreciation-luncheon/
LOCATION:Kansas City Marriott Downtown
CATEGORIES:Charitable Events Calendar
ORGANIZER;CN="Tami%C2%A0Holthus at Kansas City Metropolitan Crime Commission":MAILTO:tholthus@kc-crime.org
END:VEVENT
BEGIN:VEVENT
DTSTART;TZID=America/Chicago:20250607T170000
DTEND;TZID=America/Chicago:20250607T170000
DTSTAMP:20260421T061234
CREATED:20241209T014328Z
LAST-MODIFIED:20241209T014438Z
UID:10000334-1749315600-1749315600@kcindependent.com
SUMMARY:Kansas City Metropolitan Crime Commission - Kansas City Guns N Hoses
DESCRIPTION:Kansas City Guns N Hoses is a fun boxing event pairing our area’s firefighters and police officers in the ring to raise funds for the programs of the Crime Commission\, primarily the Surviving Spouse and Family Endowment (SAFE) program. Enjoy great food\, drinks\, and a mobile auction. \nKansas City Guns N Hoses\n \n  \n\n\nAdvocating\, developing strategies\, and operating innovative programs that bring people and public safety agencies together to power a safer\, better Greater Kansas City community. \n\n\n	Related:
URL:https://kcindependent.com/event/kansas-city-metropolitan-crime-commission-kansas-city-guns-n-hoses/
LOCATION:Kansas City Municipal Auditorium
CATEGORIES:Charitable Events Calendar
ATTACH;FMTTYPE=image/jpeg:https://kcindependent.com/wp-content/uploads/2024/12/GNH-for-Independent-scaled.jpeg
ORGANIZER;CN="Tami%C2%A0Holthus at Kansas City Metropolitan Crime Commission":MAILTO:tholthus@kc-crime.org
END:VEVENT
BEGIN:VEVENT
DTSTART;TZID=America/Chicago:20240622T170000
DTEND;TZID=America/Chicago:20240622T170000
DTSTAMP:20260421T061234
CREATED:20240213T185407Z
LAST-MODIFIED:20240213T185407Z
UID:10000152-1719075600-1719075600@kcindependent.com
SUMMARY:Kansas City Metropolitan Crime Commission's Kansas City Guns N Hoses
DESCRIPTION:Kansas City Guns N Hoses is a fun boxing event pairing our area’s firefighters and police officers in the ring to raise funds for the programs of the Crime Commission\, primarily the Surviving Spouse and Family Endowment (SAFE) program. The event includes great food\, drinks\, and a mobile auction. \n\n\nKansas City Metropolitan Crime Commission; As a nationally recognized nonprofit\, the Kansas City Metropolitan Crime Commission advocates\, develops strategies and operates innovative programs that bring people and public safety agencies together to power a safer\, better Greater Kansas City community. \n\n\n	Related:
URL:https://kcindependent.com/event/kansas-city-metropolitan-crime-commissions-kansas-city-guns-n-hoses/
LOCATION:Kansas City Municipal Auditorium
CATEGORIES:Charitable Events Calendar
ATTACH;FMTTYPE=image/jpeg:https://kcindependent.com/wp-content/uploads/2024/02/6.22-METRO-CRIME-PIC.jpg
ORGANIZER;CN="Tami%C2%A0Holthus at Kansas City Metropolitan Crime Commission":MAILTO:tholthus@kc-crime.org
END:VEVENT
END:VCALENDAR