BEGIN:VCALENDAR
VERSION:2.0
PRODID:-//The Independent - ECPv6.15.11//NONSGML v1.0//EN
CALSCALE:GREGORIAN
METHOD:PUBLISH
X-WR-CALNAME:The Independent
X-ORIGINAL-URL:https://kcindependent.com
X-WR-CALDESC:Events for The Independent
REFRESH-INTERVAL;VALUE=DURATION:PT1H
X-Robots-Tag:noindex
X-PUBLISHED-TTL:PT1H
BEGIN:VTIMEZONE
TZID:America/Chicago
BEGIN:DAYLIGHT
TZOFFSETFROM:-0600
TZOFFSETTO:-0500
TZNAME:CDT
DTSTART:20250309T080000
END:DAYLIGHT
BEGIN:STANDARD
TZOFFSETFROM:-0500
TZOFFSETTO:-0600
TZNAME:CST
DTSTART:20251102T070000
END:STANDARD
BEGIN:DAYLIGHT
TZOFFSETFROM:-0600
TZOFFSETTO:-0500
TZNAME:CDT
DTSTART:20260308T080000
END:DAYLIGHT
BEGIN:STANDARD
TZOFFSETFROM:-0500
TZOFFSETTO:-0600
TZNAME:CST
DTSTART:20261101T070000
END:STANDARD
BEGIN:DAYLIGHT
TZOFFSETFROM:-0600
TZOFFSETTO:-0500
TZNAME:CDT
DTSTART:20270314T080000
END:DAYLIGHT
BEGIN:STANDARD
TZOFFSETFROM:-0500
TZOFFSETTO:-0600
TZNAME:CST
DTSTART:20271107T070000
END:STANDARD
END:VTIMEZONE
BEGIN:VEVENT
DTSTART;TZID=America/Chicago:20260610T180000
DTEND;TZID=America/Chicago:20260610T180000
DTSTAMP:20260424T031155
CREATED:20260415T191146Z
LAST-MODIFIED:20260415T191212Z
UID:10000609-1781114400-1781114400@kcindependent.com
SUMMARY:Breakthrough T1D's Community Summit
DESCRIPTION:These in-person sessions are the cornerstone of the Breakthrough T1D education program and free to our community. Topics include\, but are not limited to\, screening and clinical trials (with an emphasis on screening education)\, safe at school\, research updates\, mental health for adults living with T1D and for parents of children living with T1D\, and learning how to manage T1D with the various technology choices. \n\nMission Statement:  \nThe organization works to improve lives today and tomorrow by accelerating life-changing breakthroughs to treat\, prevent\, and ultimately\, cure type 1 diabetes (T1D) and its complications. \n\n\n	Related:
URL:https://kcindependent.com/event/breakthrough-t1ds-community-summit/
LOCATION:BEST Conference Center
CATEGORIES:Charitable Events Calendar
ORGANIZER;CN="Becky Smith":MAILTO:rsmith@breakthrought1d.org
END:VEVENT
END:VCALENDAR