BEGIN:VCALENDAR
VERSION:2.0
PRODID:-//The Independent - ECPv6.15.11//NONSGML v1.0//EN
CALSCALE:GREGORIAN
METHOD:PUBLISH
X-WR-CALNAME:The Independent
X-ORIGINAL-URL:https://kcindependent.com
X-WR-CALDESC:Events for The Independent
REFRESH-INTERVAL;VALUE=DURATION:PT1H
X-Robots-Tag:noindex
X-PUBLISHED-TTL:PT1H
BEGIN:VTIMEZONE
TZID:America/Chicago
BEGIN:DAYLIGHT
TZOFFSETFROM:-0600
TZOFFSETTO:-0500
TZNAME:CDT
DTSTART:20220313T080000
END:DAYLIGHT
BEGIN:STANDARD
TZOFFSETFROM:-0500
TZOFFSETTO:-0600
TZNAME:CST
DTSTART:20221106T070000
END:STANDARD
BEGIN:DAYLIGHT
TZOFFSETFROM:-0600
TZOFFSETTO:-0500
TZNAME:CDT
DTSTART:20230312T080000
END:DAYLIGHT
BEGIN:STANDARD
TZOFFSETFROM:-0500
TZOFFSETTO:-0600
TZNAME:CST
DTSTART:20231105T070000
END:STANDARD
BEGIN:DAYLIGHT
TZOFFSETFROM:-0600
TZOFFSETTO:-0500
TZNAME:CDT
DTSTART:20240310T080000
END:DAYLIGHT
BEGIN:STANDARD
TZOFFSETFROM:-0500
TZOFFSETTO:-0600
TZNAME:CST
DTSTART:20241103T070000
END:STANDARD
BEGIN:DAYLIGHT
TZOFFSETFROM:-0600
TZOFFSETTO:-0500
TZNAME:CDT
DTSTART:20250309T080000
END:DAYLIGHT
BEGIN:STANDARD
TZOFFSETFROM:-0500
TZOFFSETTO:-0600
TZNAME:CST
DTSTART:20251102T070000
END:STANDARD
END:VTIMEZONE
BEGIN:VEVENT
DTSTART;TZID=America/Chicago:20240809T180000
DTEND;TZID=America/Chicago:20240809T180000
DTSTAMP:20260419T112839
CREATED:20240207T192004Z
LAST-MODIFIED:20240207T192004Z
UID:10000140-1723226400-1723226400@kcindependent.com
SUMMARY:The Victory Project's Kicks N Fits Gala
DESCRIPTION:In your best Sporting cocktail attire and Adidas kicks\, come out to Children’s Mercy Park for this annual gala. The event features curated cocktails from Sporting KC’s master mixologist\, an extensive silent auction featuring exclusive SKC items\, a plated dinner\, and a high-energy after party.\n\n\n\nThe Victory Project: The Victory Project\, an initiative of Sporting Kansas City\, is dedicated to helping children through all of life’s challenges. We support children in the Kansas City and Midwest region by uniting players\, associates\, fans\, and community partners. \n\n\n\n	Related:
URL:https://kcindependent.com/event/the-victory-projects-kicks-n-fits-gala/
LOCATION:Children’s Mercy Park\, 1 Sporting Way \, Kansas City\, KS\, 66111\, United States
CATEGORIES:Charitable Events Calendar
ORGANIZER;CN="Lexie Clark at Victory Project":MAILTO:lexie.clark@sportingkc.com
GEO:39.122757;-94.8249294
X-APPLE-STRUCTURED-LOCATION;VALUE=URI;X-ADDRESS=Children’s Mercy Park 1 Sporting Way  Kansas City KS 66111 United States;X-APPLE-RADIUS=500;X-TITLE=1 Sporting Way:geo:-94.8249294,39.122757
END:VEVENT
BEGIN:VEVENT
DTSTART;VALUE=DATE:20231111
DTEND;VALUE=DATE:20231112
DTSTAMP:20260419T112839
CREATED:20230801T193018Z
LAST-MODIFIED:20230801T193018Z
UID:10000060-1699660800-1699747199@kcindependent.com
SUMMARY:Special Olympics Kansas' The Victory Gala After Party
DESCRIPTION:The Victory Gala afterparty is an opportunity for individuals in the community to support Special Olympics Kansas athletes. We will have live music\, numerous photo opportunities\, dessert bar\, bonfire\, and live auction! \n\nSpecial Olympics Kansas; Special Olympics Kansas is dedicated to empowering individuals with intellectual disabilities to become physically fit\, productive and respected members of society through sports competitions\, health and nutrition programs and leadership development.  \n\n\n	Related:
URL:https://kcindependent.com/event/special-olympics-kansas-the-victory-gala-after-party/
LOCATION:Children’s Mercy Park\, 1 Sporting Way \, Kansas City\, KS\, 66111\, United States
CATEGORIES:Charitable Events Calendar
ORGANIZER;CN="Ryan Warren":MAILTO:warrenr@soks.org
GEO:39.122757;-94.8249294
X-APPLE-STRUCTURED-LOCATION;VALUE=URI;X-ADDRESS=Children’s Mercy Park 1 Sporting Way  Kansas City KS 66111 United States;X-APPLE-RADIUS=500;X-TITLE=1 Sporting Way:geo:-94.8249294,39.122757
END:VEVENT
END:VCALENDAR