BEGIN:VCALENDAR
VERSION:2.0
PRODID:-//The Independent - ECPv6.15.11//NONSGML v1.0//EN
CALSCALE:GREGORIAN
METHOD:PUBLISH
X-WR-CALNAME:The Independent
X-ORIGINAL-URL:https://kcindependent.com
X-WR-CALDESC:Events for The Independent
REFRESH-INTERVAL;VALUE=DURATION:PT1H
X-Robots-Tag:noindex
X-PUBLISHED-TTL:PT1H
BEGIN:VTIMEZONE
TZID:America/Chicago
BEGIN:DAYLIGHT
TZOFFSETFROM:-0600
TZOFFSETTO:-0500
TZNAME:CDT
DTSTART:20250309T080000
END:DAYLIGHT
BEGIN:STANDARD
TZOFFSETFROM:-0500
TZOFFSETTO:-0600
TZNAME:CST
DTSTART:20251102T070000
END:STANDARD
BEGIN:DAYLIGHT
TZOFFSETFROM:-0600
TZOFFSETTO:-0500
TZNAME:CDT
DTSTART:20260308T080000
END:DAYLIGHT
BEGIN:STANDARD
TZOFFSETFROM:-0500
TZOFFSETTO:-0600
TZNAME:CST
DTSTART:20261101T070000
END:STANDARD
BEGIN:DAYLIGHT
TZOFFSETFROM:-0600
TZOFFSETTO:-0500
TZNAME:CDT
DTSTART:20270314T080000
END:DAYLIGHT
BEGIN:STANDARD
TZOFFSETFROM:-0500
TZOFFSETTO:-0600
TZNAME:CST
DTSTART:20271107T070000
END:STANDARD
END:VTIMEZONE
BEGIN:VEVENT
DTSTART;TZID=America/Chicago:20260423T173000
DTEND;TZID=America/Chicago:20260423T173000
DTSTAMP:20260419T100136
CREATED:20251230T184054Z
LAST-MODIFIED:20260226T012809Z
UID:10000484-1776965400-1776965400@kcindependent.com
SUMMARY:Wildwood Outdoor Education Center - Wild Night for Wildwood
DESCRIPTION:Wild Night for Wildwood\nThis year’s Wild Night celebration will feature a “Critters & Cocktails” theme. Guests will enjoy dinner\, camp-themed games\, a raffle\, and a live auction. Proceeds support scholarships for Kansas City kids. \n\n\nMission Statement: \nThe organization brings kids outside to learn and grow together\, transforming summer into a season of learning\, youth development\, and outdoor adventure for low-income Kansas City area youth. \n\n\n	Related:
URL:https://kcindependent.com/event/wildwood-outdoor-education-center-wild-night-for-wildwood/
LOCATION:Children’s Mercy Park\, 1 Sporting Way \, Kansas City\, KS\, 66111\, United States
CATEGORIES:Charitable Events Calendar
ORGANIZER;CN="Hunter Witt":MAILTO:hunter@wildwoodctr.org
GEO:39.122757;-94.8249294
X-APPLE-STRUCTURED-LOCATION;VALUE=URI;X-ADDRESS=Children’s Mercy Park 1 Sporting Way  Kansas City KS 66111 United States;X-APPLE-RADIUS=500;X-TITLE=1 Sporting Way:geo:-94.8249294,39.122757
END:VEVENT
END:VCALENDAR