BEGIN:VCALENDAR
VERSION:2.0
PRODID:-//The Independent - ECPv6.15.11//NONSGML v1.0//EN
CALSCALE:GREGORIAN
METHOD:PUBLISH
X-WR-CALNAME:The Independent
X-ORIGINAL-URL:https://kcindependent.com
X-WR-CALDESC:Events for The Independent
REFRESH-INTERVAL;VALUE=DURATION:PT1H
X-Robots-Tag:noindex
X-PUBLISHED-TTL:PT1H
BEGIN:VTIMEZONE
TZID:America/Chicago
BEGIN:DAYLIGHT
TZOFFSETFROM:-0600
TZOFFSETTO:-0500
TZNAME:CDT
DTSTART:20230312T080000
END:DAYLIGHT
BEGIN:STANDARD
TZOFFSETFROM:-0500
TZOFFSETTO:-0600
TZNAME:CST
DTSTART:20231105T070000
END:STANDARD
BEGIN:DAYLIGHT
TZOFFSETFROM:-0600
TZOFFSETTO:-0500
TZNAME:CDT
DTSTART:20240310T080000
END:DAYLIGHT
BEGIN:STANDARD
TZOFFSETFROM:-0500
TZOFFSETTO:-0600
TZNAME:CST
DTSTART:20241103T070000
END:STANDARD
BEGIN:DAYLIGHT
TZOFFSETFROM:-0600
TZOFFSETTO:-0500
TZNAME:CDT
DTSTART:20250309T080000
END:DAYLIGHT
BEGIN:STANDARD
TZOFFSETFROM:-0500
TZOFFSETTO:-0600
TZNAME:CST
DTSTART:20251102T070000
END:STANDARD
BEGIN:DAYLIGHT
TZOFFSETFROM:-0600
TZOFFSETTO:-0500
TZNAME:CDT
DTSTART:20260308T080000
END:DAYLIGHT
BEGIN:STANDARD
TZOFFSETFROM:-0500
TZOFFSETTO:-0600
TZNAME:CST
DTSTART:20261101T070000
END:STANDARD
END:VTIMEZONE
BEGIN:VEVENT
DTSTART;TZID=America/Chicago:20251018T190000
DTEND;TZID=America/Chicago:20251018T190000
DTSTAMP:20260424T143819
CREATED:20250909T172045Z
LAST-MODIFIED:20251010T142310Z
UID:10000440-1760814000-1760814000@kcindependent.com
SUMMARY:Metropolitan Organization Countering Sexual Assault (MOCSA); Night Out with MOCSA - The Gold Standard Since 1975
DESCRIPTION:2025 marks our 50th anniversary of standing behind survivors of sexual violence and working toward a world where safety\, healing\, and justice are possible. To celebrate\, we’re hosting a special evening that celebrates five decades of supporting survivors and building a stronger\, more compassionate community while raising crucial funds for the work we do year-round. \nNight Out with MOCSA – The Gold Standard Since 1975\n\n\n  \n\n\n	Related:
URL:https://kcindependent.com/event/metropolitan-organization-countering-sexual-assault-mocsa-night-out-with-mocsa-the-gold-standard-since-1975/
LOCATION:CPKC Stadium at Berkley Riverfront Park
CATEGORIES:Charitable Events Calendar
END:VEVENT
BEGIN:VEVENT
DTSTART;TZID=America/Chicago:20251003T183000
DTEND;TZID=America/Chicago:20251003T183000
DTSTAMP:20260424T143819
CREATED:20250226T013405Z
LAST-MODIFIED:20250226T013405Z
UID:10000393-1759516200-1759516200@kcindependent.com
SUMMARY:North Kansas City Hospital - Glow All Out
DESCRIPTION:Glow All Out is North Kansas City Hospital’s annual fundraising event celebrating the hope and healing impact of our health system on the Northland. Guests will enjoy a modern and chic glow party with great entertainment\, cocktails\, and cuisine. \nGlow All Out\n\n\nProvide hope and healing to every life we touch. \n\n\n	Related:
URL:https://kcindependent.com/event/north-kansas-city-hospital-glow-all-out/
LOCATION:CPKC Stadium at Berkley Riverfront Park
CATEGORIES:Charitable Events Calendar
END:VEVENT
BEGIN:VEVENT
DTSTART;TZID=America/Chicago:20241004T183000
DTEND;TZID=America/Chicago:20241004T183000
DTSTAMP:20260424T143819
CREATED:20240531T151008Z
LAST-MODIFIED:20240703T143943Z
UID:10000226-1728066600-1728066600@kcindependent.com
SUMMARY:North Kansas City Hospital's Glow All Out
DESCRIPTION:Glow All Out is North Kansas City Hospital’s inaugural fundraising event celebrating the healing impact of our health system on the Northland. Guests will enjoy a modern and chic party on the pitch with great entertainment\, cocktails\, and cuisine. Attire is creative cocktail.\n\n\n\n\n\nNorth Kansas City Hospital; To provide hope and healing to every life we touch. \n\n\n\n\n\n\n\n\n	Related:
URL:https://kcindependent.com/event/north-kansas-citys-hospital-glow-all-out/
LOCATION:CPKC Stadium at Berkley Riverfront Park
CATEGORIES:Charitable Events Calendar
END:VEVENT
BEGIN:VEVENT
DTSTART;TZID=America/Chicago:20240426T180000
DTEND;TZID=America/Chicago:20240426T180000
DTSTAMP:20260424T143819
CREATED:20240306T190804Z
LAST-MODIFIED:20240306T190804Z
UID:10000169-1714154400-1714154400@kcindependent.com
SUMMARY:CASA of Johnson & Wyandotte Counties' Promise of Hope: Champions of CASA
DESCRIPTION:April is Child Abuse Prevention Month. Promise of Hope brings awareness to the issue of child abuse and its impact on the children CASA serves. This event inspires community engagement through education and impactful storytelling. \n\n\nCASA of Johnson & Wyandotte Counties; To provide a meaningful voice and connection that instills hope and builds resilience for children who have experienced abuse and neglect. \n\n\n	Related:
URL:https://kcindependent.com/event/casa-of-johnson-wyandotte-counties-promise-of-hope-champions-of-casa/
LOCATION:CPKC Stadium at Berkley Riverfront Park
CATEGORIES:Charitable Events Calendar
ORGANIZER;CN="Keiasiah Mozee":MAILTO:kmozee@casajwc.com
END:VEVENT
END:VCALENDAR