BEGIN:VCALENDAR
VERSION:2.0
PRODID:-//The Independent - ECPv6.15.11//NONSGML v1.0//EN
CALSCALE:GREGORIAN
METHOD:PUBLISH
X-WR-CALNAME:The Independent
X-ORIGINAL-URL:https://kcindependent.com
X-WR-CALDESC:Events for The Independent
REFRESH-INTERVAL;VALUE=DURATION:PT1H
X-Robots-Tag:noindex
X-PUBLISHED-TTL:PT1H
BEGIN:VTIMEZONE
TZID:America/Chicago
BEGIN:DAYLIGHT
TZOFFSETFROM:-0600
TZOFFSETTO:-0500
TZNAME:CDT
DTSTART:20250309T080000
END:DAYLIGHT
BEGIN:STANDARD
TZOFFSETFROM:-0500
TZOFFSETTO:-0600
TZNAME:CST
DTSTART:20251102T070000
END:STANDARD
BEGIN:DAYLIGHT
TZOFFSETFROM:-0600
TZOFFSETTO:-0500
TZNAME:CDT
DTSTART:20260308T080000
END:DAYLIGHT
BEGIN:STANDARD
TZOFFSETFROM:-0500
TZOFFSETTO:-0600
TZNAME:CST
DTSTART:20261101T070000
END:STANDARD
BEGIN:DAYLIGHT
TZOFFSETFROM:-0600
TZOFFSETTO:-0500
TZNAME:CDT
DTSTART:20270314T080000
END:DAYLIGHT
BEGIN:STANDARD
TZOFFSETFROM:-0500
TZOFFSETTO:-0600
TZNAME:CST
DTSTART:20271107T070000
END:STANDARD
END:VTIMEZONE
BEGIN:VEVENT
DTSTART;TZID=America/Chicago:20260506T070000
DTEND;TZID=America/Chicago:20260506T070000
DTSTAMP:20260424T132138
CREATED:20251230T235132Z
LAST-MODIFIED:20260121T152933Z
UID:10000511-1778050800-1778050800@kcindependent.com
SUMMARY:United WE - Champions for Change
DESCRIPTION:Champions for Change\nThe Champions for Change breakfast will convene leaders to discuss the economics and benefit of elevating women in business. \n\n\nMission Statement: \nThe organization is a national\, nonprofit\, nonpartisan think-and-do tank driving systemic change by focusing on women’s labor force participation to strengthen the overall economy. \n\n\n	Related:
URL:https://kcindependent.com/event/united-we-champions-for-change-2/
LOCATION:CPKC Stadium at Berkley Riverfront Park
CATEGORIES:Charitable Events Calendar
ATTACH;FMTTYPE=image/png:https://kcindependent.com/wp-content/uploads/2025/12/Screenshot-2025-12-30-at-5.50.55-PM.png
ORGANIZER;CN="Sarah Smith":MAILTO:sarahs@rosebrooks.org
END:VEVENT
BEGIN:VEVENT
DTSTART;TZID=America/Chicago:20261009T183000
DTEND;TZID=America/Chicago:20261009T183000
DTSTAMP:20260424T132138
CREATED:20260220T173336Z
LAST-MODIFIED:20260220T173336Z
UID:10000600-1791570600-1791570600@kcindependent.com
SUMMARY:NKC Health - Glow All Out
DESCRIPTION:Glow All Out\nNKC Health’s third annual fundraising celebration will feature a vibrant\, glow‑themed event\, complete with entertainment\, cocktails\, and bites. Proceeds will help expand access to vital maternal health services\, ensuring safer pregnancies\, healthier women\, and stronger babies \n\n\nMission Statement:  \nThe organization empowers hope and healing in every life we touch. \n\n\n	Related:
URL:https://kcindependent.com/event/nkc-health-glow-all-out/
LOCATION:CPKC Stadium at Berkley Riverfront Park
CATEGORIES:Charitable Events Calendar
END:VEVENT
END:VCALENDAR