BEGIN:VCALENDAR
VERSION:2.0
PRODID:-//The Independent - ECPv6.15.11//NONSGML v1.0//EN
CALSCALE:GREGORIAN
METHOD:PUBLISH
X-WR-CALNAME:The Independent
X-ORIGINAL-URL:https://kcindependent.com
X-WR-CALDESC:Events for The Independent
REFRESH-INTERVAL;VALUE=DURATION:PT1H
X-Robots-Tag:noindex
X-PUBLISHED-TTL:PT1H
BEGIN:VTIMEZONE
TZID:America/Chicago
BEGIN:DAYLIGHT
TZOFFSETFROM:-0600
TZOFFSETTO:-0500
TZNAME:CDT
DTSTART:20230312T080000
END:DAYLIGHT
BEGIN:STANDARD
TZOFFSETFROM:-0500
TZOFFSETTO:-0600
TZNAME:CST
DTSTART:20231105T070000
END:STANDARD
BEGIN:DAYLIGHT
TZOFFSETFROM:-0600
TZOFFSETTO:-0500
TZNAME:CDT
DTSTART:20240310T080000
END:DAYLIGHT
BEGIN:STANDARD
TZOFFSETFROM:-0500
TZOFFSETTO:-0600
TZNAME:CST
DTSTART:20241103T070000
END:STANDARD
BEGIN:DAYLIGHT
TZOFFSETFROM:-0600
TZOFFSETTO:-0500
TZNAME:CDT
DTSTART:20250309T080000
END:DAYLIGHT
BEGIN:STANDARD
TZOFFSETFROM:-0500
TZOFFSETTO:-0600
TZNAME:CST
DTSTART:20251102T070000
END:STANDARD
END:VTIMEZONE
BEGIN:VEVENT
DTSTART;VALUE=DATE:20240921
DTEND;VALUE=DATE:20240922
DTSTAMP:20260419T102147
CREATED:20240311T185454Z
LAST-MODIFIED:20240311T185454Z
UID:10000180-1726876800-1726963199@kcindependent.com
SUMMARY:Children's Mercy Kansas City's Dream Big Day
DESCRIPTION:A one-mile walk and family friendly event celebrating the big dreams of kids at Children’s Mercy and in the Kansas City community. \n \n\n\nChildren’s Mercy Kansas City: A leading independent children’s health organization dedicated to holistic care\, translational research\, breakthrough innovation and educating the next generation of caregivers. Together\, we transform the health\, well-being and potential of children with unwavering compassion for those most vulnerable. \n\n\n	Related:
URL:https://kcindependent.com/event/childrens-mercy-kansas-citys-dream-big-day/
LOCATION:Crown Center Square
CATEGORIES:Charitable Events Calendar
ATTACH;FMTTYPE=image/png:https://kcindependent.com/wp-content/uploads/2024/03/Screen-Shot-2024-03-11-at-1.54.19-PM.png
END:VEVENT
END:VCALENDAR