BEGIN:VCALENDAR
VERSION:2.0
PRODID:-//The Independent - ECPv6.15.11//NONSGML v1.0//EN
CALSCALE:GREGORIAN
METHOD:PUBLISH
X-WR-CALNAME:The Independent
X-ORIGINAL-URL:https://kcindependent.com
X-WR-CALDESC:Events for The Independent
REFRESH-INTERVAL;VALUE=DURATION:PT1H
X-Robots-Tag:noindex
X-PUBLISHED-TTL:PT1H
BEGIN:VTIMEZONE
TZID:America/Chicago
BEGIN:DAYLIGHT
TZOFFSETFROM:-0600
TZOFFSETTO:-0500
TZNAME:CDT
DTSTART:20230312T080000
END:DAYLIGHT
BEGIN:STANDARD
TZOFFSETFROM:-0500
TZOFFSETTO:-0600
TZNAME:CST
DTSTART:20231105T070000
END:STANDARD
BEGIN:DAYLIGHT
TZOFFSETFROM:-0600
TZOFFSETTO:-0500
TZNAME:CDT
DTSTART:20240310T080000
END:DAYLIGHT
BEGIN:STANDARD
TZOFFSETFROM:-0500
TZOFFSETTO:-0600
TZNAME:CST
DTSTART:20241103T070000
END:STANDARD
BEGIN:DAYLIGHT
TZOFFSETFROM:-0600
TZOFFSETTO:-0500
TZNAME:CDT
DTSTART:20250309T080000
END:DAYLIGHT
BEGIN:STANDARD
TZOFFSETFROM:-0500
TZOFFSETTO:-0600
TZNAME:CST
DTSTART:20251102T070000
END:STANDARD
END:VTIMEZONE
BEGIN:VEVENT
DTSTART;TZID=America/Chicago:20240919T170000
DTEND;TZID=America/Chicago:20240919T170000
DTSTAMP:20260419T102211
CREATED:20240311T184912Z
LAST-MODIFIED:20240709T155212Z
UID:10000177-1726765200-1726765200@kcindependent.com
SUMMARY:HappyBottoms' Diaper Bowl IV
DESCRIPTION:Join us for our fourth annual Diaper Bowl! This celebration at Ameristar Casino and Hotel features food and drink\, live music\, games\, raffle\, live and silent auctions\, and much more. Proceeds support programs that provide diapers to more than 5\,000 children per month. \n \n\n\nHappyBottoms: Collaborating with the community to empower\, connect and impact families by alleviating diaper need. \n\n\n	Related:
URL:https://kcindependent.com/event/happybottoms-diaper-bowl-iv/
LOCATION:HappyBottoms Warehouse\, 303 West 79th Street\, Kansas City\, MO\, 64114\, United States
CATEGORIES:Charitable Events Calendar
ATTACH;FMTTYPE=image/png:https://kcindependent.com/wp-content/uploads/2024/03/9-Diaper-Bowl-IV-Logo-White-Outline-v2.png
ORGANIZER;CN="Susan Belger Angulo - Happy Bottoms":MAILTO:susan@happybottoms.org
END:VEVENT
END:VCALENDAR