BEGIN:VCALENDAR
VERSION:2.0
PRODID:-//The Independent - ECPv6.15.11//NONSGML v1.0//EN
CALSCALE:GREGORIAN
METHOD:PUBLISH
X-WR-CALNAME:The Independent
X-ORIGINAL-URL:https://kcindependent.com
X-WR-CALDESC:Events for The Independent
REFRESH-INTERVAL;VALUE=DURATION:PT1H
X-Robots-Tag:noindex
X-PUBLISHED-TTL:PT1H
BEGIN:VTIMEZONE
TZID:America/Chicago
BEGIN:DAYLIGHT
TZOFFSETFROM:-0600
TZOFFSETTO:-0500
TZNAME:CDT
DTSTART:20230312T080000
END:DAYLIGHT
BEGIN:STANDARD
TZOFFSETFROM:-0500
TZOFFSETTO:-0600
TZNAME:CST
DTSTART:20231105T070000
END:STANDARD
BEGIN:DAYLIGHT
TZOFFSETFROM:-0600
TZOFFSETTO:-0500
TZNAME:CDT
DTSTART:20240310T080000
END:DAYLIGHT
BEGIN:STANDARD
TZOFFSETFROM:-0500
TZOFFSETTO:-0600
TZNAME:CST
DTSTART:20241103T070000
END:STANDARD
BEGIN:DAYLIGHT
TZOFFSETFROM:-0600
TZOFFSETTO:-0500
TZNAME:CDT
DTSTART:20250309T080000
END:DAYLIGHT
BEGIN:STANDARD
TZOFFSETFROM:-0500
TZOFFSETTO:-0600
TZNAME:CST
DTSTART:20251102T070000
END:STANDARD
END:VTIMEZONE
BEGIN:VEVENT
DTSTART;TZID=America/Chicago:20240414T163000
DTEND;TZID=America/Chicago:20240414T163000
DTSTAMP:20260419T182708
CREATED:20240326T152618Z
LAST-MODIFIED:20240326T152618Z
UID:10000207-1713112200-1713112200@kcindependent.com
SUMMARY:SevenDays' Community Kindness Festival
DESCRIPTION:Hosted by our 2024 Kindness Youth Leadership Team and corporate sponsors committed to teaching kindness\, the festival features live music by The Voice star Kate Cosentino\, food trucks\, and family-friendly activities for all ages. \n\n\nSevenDays; SevenDays® is a Kansas City-based\, non-profit organization that overcomes hate by promoting kindness and understanding through education and dialogue. \n\n\n	Related:
URL:https://kcindependent.com/event/sevendays-community-kindness-festival/
LOCATION:Jewish Community Center
CATEGORIES:Charitable Events Calendar
ORGANIZER;CN="Ruth Bigus":MAILTO:ruth@sevendays.org
END:VEVENT
END:VCALENDAR