BEGIN:VCALENDAR
VERSION:2.0
PRODID:-//The Independent - ECPv6.15.11//NONSGML v1.0//EN
CALSCALE:GREGORIAN
METHOD:PUBLISH
X-ORIGINAL-URL:https://kcindependent.com
X-WR-CALDESC:Events for The Independent
REFRESH-INTERVAL;VALUE=DURATION:PT1H
X-Robots-Tag:noindex
X-PUBLISHED-TTL:PT1H
BEGIN:VTIMEZONE
TZID:America/Chicago
BEGIN:DAYLIGHT
TZOFFSETFROM:-0600
TZOFFSETTO:-0500
TZNAME:CDT
DTSTART:20230312T080000
END:DAYLIGHT
BEGIN:STANDARD
TZOFFSETFROM:-0500
TZOFFSETTO:-0600
TZNAME:CST
DTSTART:20231105T070000
END:STANDARD
BEGIN:DAYLIGHT
TZOFFSETFROM:-0600
TZOFFSETTO:-0500
TZNAME:CDT
DTSTART:20240310T080000
END:DAYLIGHT
BEGIN:STANDARD
TZOFFSETFROM:-0500
TZOFFSETTO:-0600
TZNAME:CST
DTSTART:20241103T070000
END:STANDARD
BEGIN:DAYLIGHT
TZOFFSETFROM:-0600
TZOFFSETTO:-0500
TZNAME:CDT
DTSTART:20250309T080000
END:DAYLIGHT
BEGIN:STANDARD
TZOFFSETFROM:-0500
TZOFFSETTO:-0600
TZNAME:CST
DTSTART:20251102T070000
END:STANDARD
END:VTIMEZONE
BEGIN:VEVENT
DTSTART;TZID=America/Chicago:20241123T100000
DTEND;TZID=America/Chicago:20241123T100000
DTSTAMP:20260419T102340
CREATED:20240820T173821Z
LAST-MODIFIED:20240820T173821Z
UID:10000253-1732356000-1732356000@kcindependent.com
SUMMARY:Weavers Guild of Greater Kansas City and Fiber Guild of Greater Kansas City - Creative Hand
DESCRIPTION:All pieces offered for sale at the 42nd annual event are unique and handmade by local area artists and cover a wide range of items. \n Creative Hand\n\n\nOrganized in 1954 to promote hand weaving\, spinning\, and fiber arts to its members and the public. \n\n\n	Related:
URL:https://kcindependent.com/event/weavers-guild-of-greater-kansas-city-and-fiber-guild-of-greater-kansas-city-creative-hand/2024-11-23/
LOCATION:Old Shawnee Town Hall
CATEGORIES:Charitable Events Calendar
ORGANIZER;CN="Nancy Gibson":MAILTO:ngibson100@yahoo.com
END:VEVENT
BEGIN:VEVENT
DTSTART;TZID=America/Chicago:20241122T160000
DTEND;TZID=America/Chicago:20241122T160000
DTSTAMP:20260419T102340
CREATED:20240820T173821Z
LAST-MODIFIED:20240820T173821Z
UID:10000252-1732291200-1732291200@kcindependent.com
SUMMARY:Weavers Guild of Greater Kansas City and Fiber Guild of Greater Kansas City - Creative Hand
DESCRIPTION:All pieces offered for sale at the 42nd annual event are unique and handmade by local area artists and cover a wide range of items. \n Creative Hand\n\n\nOrganized in 1954 to promote hand weaving\, spinning\, and fiber arts to its members and the public. \n\n\n	Related:
URL:https://kcindependent.com/event/weavers-guild-of-greater-kansas-city-and-fiber-guild-of-greater-kansas-city-creative-hand/2024-11-22/
LOCATION:Old Shawnee Town Hall
CATEGORIES:Charitable Events Calendar
ORGANIZER;CN="Nancy Gibson":MAILTO:ngibson100@yahoo.com
END:VEVENT
END:VCALENDAR