BEGIN:VCALENDAR
VERSION:2.0
PRODID:-//The Independent - ECPv6.15.11//NONSGML v1.0//EN
CALSCALE:GREGORIAN
METHOD:PUBLISH
X-WR-CALNAME:The Independent
X-ORIGINAL-URL:https://kcindependent.com
X-WR-CALDESC:Events for The Independent
REFRESH-INTERVAL;VALUE=DURATION:PT1H
X-Robots-Tag:noindex
X-PUBLISHED-TTL:PT1H
BEGIN:VTIMEZONE
TZID:America/Chicago
BEGIN:DAYLIGHT
TZOFFSETFROM:-0600
TZOFFSETTO:-0500
TZNAME:CDT
DTSTART:20250309T080000
END:DAYLIGHT
BEGIN:STANDARD
TZOFFSETFROM:-0500
TZOFFSETTO:-0600
TZNAME:CST
DTSTART:20251102T070000
END:STANDARD
BEGIN:DAYLIGHT
TZOFFSETFROM:-0600
TZOFFSETTO:-0500
TZNAME:CDT
DTSTART:20260308T080000
END:DAYLIGHT
BEGIN:STANDARD
TZOFFSETFROM:-0500
TZOFFSETTO:-0600
TZNAME:CST
DTSTART:20261101T070000
END:STANDARD
BEGIN:DAYLIGHT
TZOFFSETFROM:-0600
TZOFFSETTO:-0500
TZNAME:CDT
DTSTART:20270314T080000
END:DAYLIGHT
BEGIN:STANDARD
TZOFFSETFROM:-0500
TZOFFSETTO:-0600
TZNAME:CST
DTSTART:20271107T070000
END:STANDARD
END:VTIMEZONE
BEGIN:VEVENT
DTSTART;TZID=America/Chicago:20260605T080000
DTEND;TZID=America/Chicago:20260605T080000
DTSTAMP:20260424T114415
CREATED:20251231T171952Z
LAST-MODIFIED:20260121T215942Z
UID:10000531-1780646400-1780646400@kcindependent.com
SUMMARY:Sheffield Place - 16th Annual Sheffield Place Golf Tournament
DESCRIPTION:16th Annual Sheffield Place Golf Tournament\nThe event will feature drawings\, a silent auction\, games\, prizes\, and more; Shoal Creek Golf Course. \n\n\nMission Statement: \nThe organization empowers homeless mothers and their children to heal from their trauma and become self-sufficient. \n\n\n	Related:
URL:https://kcindependent.com/event/sheffield-place-16th-annual-sheffield-place-golf-tournament/
LOCATION:Shoal Creek Golf Course\, 8905 Shoal Creek Pkwy\, Kansas City\, MO\, 64157\, United States
CATEGORIES:Charitable Events Calendar
ORGANIZER;CN="David Hanzlick - Sheffield Place":MAILTO:dhanzlick@sheffieldplace.org
GEO:39.2554595;-94.4862696
X-APPLE-STRUCTURED-LOCATION;VALUE=URI;X-ADDRESS=Shoal Creek Golf Course 8905 Shoal Creek Pkwy Kansas City MO 64157 United States;X-APPLE-RADIUS=500;X-TITLE=8905 Shoal Creek Pkwy:geo:-94.4862696,39.2554595
END:VEVENT
END:VCALENDAR