BEGIN:VCALENDAR
VERSION:2.0
PRODID:-//The Independent - ECPv6.15.11//NONSGML v1.0//EN
CALSCALE:GREGORIAN
METHOD:PUBLISH
X-ORIGINAL-URL:https://kcindependent.com
X-WR-CALDESC:Events for The Independent
REFRESH-INTERVAL;VALUE=DURATION:PT1H
X-Robots-Tag:noindex
X-PUBLISHED-TTL:PT1H
BEGIN:VTIMEZONE
TZID:America/Chicago
BEGIN:DAYLIGHT
TZOFFSETFROM:-0600
TZOFFSETTO:-0500
TZNAME:CDT
DTSTART:20250309T080000
END:DAYLIGHT
BEGIN:STANDARD
TZOFFSETFROM:-0500
TZOFFSETTO:-0600
TZNAME:CST
DTSTART:20251102T070000
END:STANDARD
BEGIN:DAYLIGHT
TZOFFSETFROM:-0600
TZOFFSETTO:-0500
TZNAME:CDT
DTSTART:20260308T080000
END:DAYLIGHT
BEGIN:STANDARD
TZOFFSETFROM:-0500
TZOFFSETTO:-0600
TZNAME:CST
DTSTART:20261101T070000
END:STANDARD
BEGIN:DAYLIGHT
TZOFFSETFROM:-0600
TZOFFSETTO:-0500
TZNAME:CDT
DTSTART:20270314T080000
END:DAYLIGHT
BEGIN:STANDARD
TZOFFSETFROM:-0500
TZOFFSETTO:-0600
TZNAME:CST
DTSTART:20271107T070000
END:STANDARD
END:VTIMEZONE
BEGIN:VEVENT
DTSTART;TZID=America/Chicago:20260529T173000
DTEND;TZID=America/Chicago:20260529T173000
DTSTAMP:20260424T055102
CREATED:20251231T164353Z
LAST-MODIFIED:20260121T154140Z
UID:10000523-1780075800-1780075800@kcindependent.com
SUMMARY:Children’s Mercy - Big Slick Celebrity Weekend
DESCRIPTION:Big Slick Celebrity Weekend\nA weekend event hosted by Kansas City natives Rob Riggle\, Paul Rudd\, Jason Sudeikis\, Eric Stonestreet\, David Koechner\, and Heidi Gardner. They will invite celebrity friends to celebrate with exclusive VIP parties\, unforgettable events\, and a signature show. \n\n\nMission Statement: \nChildren’s Mercy is a leading independent children’s health organization dedicated to holistic care\, translational research\, breakthrough innovation\, and educating the next generation of caregivers. Together\, we transform the health\, well-being\, and potential of children with unwavering compassion for those most vulnerable. \n\n\n	Related:
URL:https://kcindependent.com/event/childrens-mercy-big-slick-celebrity-weekend/
LOCATION:T-Mobile Center
CATEGORIES:Charitable Events Calendar
ORGANIZER;CN="Tara Hamilton":MAILTO:tshamilton@cmh.edu
END:VEVENT
END:VCALENDAR