BEGIN:VCALENDAR
VERSION:2.0
PRODID:-//The Independent - ECPv6.15.11//NONSGML v1.0//EN
CALSCALE:GREGORIAN
METHOD:PUBLISH
X-ORIGINAL-URL:https://kcindependent.com
X-WR-CALDESC:Events for The Independent
REFRESH-INTERVAL;VALUE=DURATION:PT1H
X-Robots-Tag:noindex
X-PUBLISHED-TTL:PT1H
BEGIN:VTIMEZONE
TZID:America/Chicago
BEGIN:DAYLIGHT
TZOFFSETFROM:-0600
TZOFFSETTO:-0500
TZNAME:CDT
DTSTART:20230312T080000
END:DAYLIGHT
BEGIN:STANDARD
TZOFFSETFROM:-0500
TZOFFSETTO:-0600
TZNAME:CST
DTSTART:20231105T070000
END:STANDARD
BEGIN:DAYLIGHT
TZOFFSETFROM:-0600
TZOFFSETTO:-0500
TZNAME:CDT
DTSTART:20240310T080000
END:DAYLIGHT
BEGIN:STANDARD
TZOFFSETFROM:-0500
TZOFFSETTO:-0600
TZNAME:CST
DTSTART:20241103T070000
END:STANDARD
BEGIN:DAYLIGHT
TZOFFSETFROM:-0600
TZOFFSETTO:-0500
TZNAME:CDT
DTSTART:20250309T080000
END:DAYLIGHT
BEGIN:STANDARD
TZOFFSETFROM:-0500
TZOFFSETTO:-0600
TZNAME:CST
DTSTART:20251102T070000
END:STANDARD
BEGIN:DAYLIGHT
TZOFFSETFROM:-0600
TZOFFSETTO:-0500
TZNAME:CDT
DTSTART:20260308T080000
END:DAYLIGHT
BEGIN:STANDARD
TZOFFSETFROM:-0500
TZOFFSETTO:-0600
TZNAME:CST
DTSTART:20261101T070000
END:STANDARD
END:VTIMEZONE
BEGIN:VEVENT
DTSTART;TZID=America/Chicago:20250609T083000
DTEND;TZID=America/Chicago:20250609T083000
DTSTAMP:20260419T070111
CREATED:20241209T015236Z
LAST-MODIFIED:20241209T015236Z
UID:10000336-1749457800-1749457800@kcindependent.com
SUMMARY:Big Brothers Big Sisters Kansas City - Legacy Golf Tournament
DESCRIPTION:The Legacy Golf Tournament is designed for community and business leaders as one of the premier client entertainment events in our area. Golfers will enjoy unmatched player amenities\, including a gift salon and much more. \nThe Legacy Golf Tournament \n\n\nTo clear the path to a child’s biggest possible future by matching them with a caring\, adult mentor in a one-to-one friendship. \n\n\n	Related:
URL:https://kcindependent.com/event/big-brothers-big-sisters-kansas-city-legacy-golf-tournament-2/
LOCATION:The National Golf Club\, 6700 N. National Drive\, Kansas City\, MO\, 64152\, United States
CATEGORIES:Charitable Events Calendar
ORGANIZER;CN="Brittany Davis":MAILTO:brittany@bbbskc.org
GEO:39.2187814;-94.7120491
X-APPLE-STRUCTURED-LOCATION;VALUE=URI;X-ADDRESS=The National Golf Club 6700 N. National Drive Kansas City MO 64152 United States;X-APPLE-RADIUS=500;X-TITLE=6700 N. National Drive:geo:-94.7120491,39.2187814
END:VEVENT
BEGIN:VEVENT
DTSTART;TZID=America/Chicago:20240610T083000
DTEND;TZID=America/Chicago:20240610T083000
DTSTAMP:20260419T070111
CREATED:20240209T174741Z
LAST-MODIFIED:20240209T174741Z
UID:10000144-1718008200-1718008200@kcindependent.com
SUMMARY:Big Brothers Big Sisters Kansas City's Legacy Golf Tournament
DESCRIPTION:The Big Brothers Big Sisters Legacy Invitational is designed for community and business leaders as one of the premier client entertainment events in our area. Golfers can expect an incredible gift salon\, a cigar emporium\, challenge holes\, on-course food and drink\, a 19th hole reception\, and more. \n\n\nBig Brothers Big Sisters Kansas City; To clear the path to a child’s biggest possible future. We make a difference by creating professionally supported\, one-to-one matches for kids who want to realize their full potential. \n\n\n	Related:
URL:https://kcindependent.com/event/big-brothers-big-sisters-kansas-citys-legacy-golf-tournament-2/
LOCATION:The National Golf Club\, 6700 N. National Drive\, Kansas City\, MO\, 64152\, United States
CATEGORIES:Charitable Events Calendar
ORGANIZER;CN="Brittany Davis":MAILTO:brittany@bbbskc.org
GEO:39.2187814;-94.7120491
X-APPLE-STRUCTURED-LOCATION;VALUE=URI;X-ADDRESS=The National Golf Club 6700 N. National Drive Kansas City MO 64152 United States;X-APPLE-RADIUS=500;X-TITLE=6700 N. National Drive:geo:-94.7120491,39.2187814
END:VEVENT
END:VCALENDAR